BEGIN:VCALENDAR
VERSION:2.0
PRODID:-//Koncert Rzeszów. Zobacz kto zagra w Rzeszowie! - ECPv6.15.20//NONSGML v1.0//EN
CALSCALE:GREGORIAN
METHOD:PUBLISH
X-WR-CALNAME:Koncert Rzeszów. Zobacz kto zagra w Rzeszowie!
X-ORIGINAL-URL:https://koncertywrzeszowie.pl
X-WR-CALDESC:Wydarzenia dla Koncert Rzeszów. Zobacz kto zagra w Rzeszowie!
REFRESH-INTERVAL;VALUE=DURATION:PT1H
X-Robots-Tag:noindex
X-PUBLISHED-TTL:PT1H
BEGIN:VTIMEZONE
TZID:Europe/Warsaw
BEGIN:DAYLIGHT
TZOFFSETFROM:+0100
TZOFFSETTO:+0200
TZNAME:CEST
DTSTART:20180325T010000
END:DAYLIGHT
BEGIN:STANDARD
TZOFFSETFROM:+0200
TZOFFSETTO:+0100
TZNAME:CET
DTSTART:20181028T010000
END:STANDARD
BEGIN:DAYLIGHT
TZOFFSETFROM:+0100
TZOFFSETTO:+0200
TZNAME:CEST
DTSTART:20190331T010000
END:DAYLIGHT
BEGIN:STANDARD
TZOFFSETFROM:+0200
TZOFFSETTO:+0100
TZNAME:CET
DTSTART:20191027T010000
END:STANDARD
BEGIN:DAYLIGHT
TZOFFSETFROM:+0100
TZOFFSETTO:+0200
TZNAME:CEST
DTSTART:20200329T010000
END:DAYLIGHT
BEGIN:STANDARD
TZOFFSETFROM:+0200
TZOFFSETTO:+0100
TZNAME:CET
DTSTART:20201025T010000
END:STANDARD
END:VTIMEZONE
BEGIN:VEVENT
DTSTART;TZID=Europe/Warsaw:20191128T190000
DTEND;TZID=Europe/Warsaw:20191129T000000
DTSTAMP:20260422T103022
CREATED:20191118T095646Z
LAST-MODIFIED:20191118T095646Z
UID:6880-1574967600-1574985600@koncertywrzeszowie.pl
SUMMARY:Irreversible Mechanism i Essence of Datum w Vinylu
DESCRIPTION:Zapraszamy na koncert dwóch zespołów z Białorusi. \n28.11.2019 (czwartek) ▪ Bramka: 19:00 ▪ Start 20.00 \nBilety 25-30 PLN \n  \nEssence of Datum\n(Instrumental Progressive Metal ▪ Mińsk) \nOne does not always need words to convey a story. If there’s anything that instrumental progressive metal duo ESSENCE OF DATUM prove\, it’s that the power of music can do just that. ‘Spellcrying Machine’\, the band’s third full-length\, is set for an August release on Season of Mist and is bound to open up their creation to a wider audience. \nESSENCE OF DATUM was formed by guitarist Dmitry Ramanouski in 2011 in Minsk\, Belarus. After recording the first demos\, the musician was joined by drummer Pavel Vilchytski who quickly became an irreplaceable part of the band as the man behind the machine-gun rhythm section. \nFrom the very beginning\, the project was meant to be purely instrumental\, thus not giving the listener verbal or lexical means to comprehend or interpret the conceptual universe of the music. Providing fans with mere hints hidden in the artwork and track titles\, the musicians challenge the listener to use their own imagination to explore the universe that ESSENCE OF DATUM created. Each album is part of a larger\, fictional universe and ultimately\, everything is bound together in one single story. \nIn 2013\, the journey began with the release of debut album 'Event Horizon.’ ESSENCE OF DATUM paint there a picture of a surrealistic world by means of soaring guitar melodies and groovy rhythms with an unbelievable technical precision. The second full-length 'Nevermore’ (2017) opened a new chapter in which the ESSENCE OF DATUM universe was tainted by war\, struggle\, and fear\, transformed by the band into powerful songs with melodic grace. \nSet against the backdrop of a post-apocalyptic world\, the band’s third record\, 'Spellcrying Machine’\, synthesizes the best of extreme\, modern metal into an elegant and articulate whole. ESSENCE OF DATUM invites you to explore their universe. \nBand Members:\nDmitry Ramanouski – Guitar\nPavel Vilchytski – Drums\nLABEL – Season of mist \n  \nIRREVERSIBLE MECHANISM\n(Progressive Death Metal ▪ Mińsk) \nIrreversible Mechanism is a music project that began in 2012 by long-term acquaintances. \nDuring 2012 the music that set the stage for a future full-length album has been written. Work on the album started right from the uniting and all the recordings done during the next years in Kiev\, Ukraine and hometown Minsk. Initially 12 songs were planned but due to the concept their number was reduced to 9. \nThe idea of the album is that every song is a chapter of a story. The story about a fictional world where the nature and some other powers resist the consequences of the mankind’s mistakes. Irreversible mechanism that can’t be stopped. Also “Irreversible Mechanism” was taken as a band’s name. \nAs soon as the material was written and guys didn’t want to waste their time on finding professional group members and decided to suggest Lyle Cooper (ex-Faceless) perform as a session drummer. He was so impressed by the material that gladly agreed to participate. \nOn December 22\, 2014 Irreversible Mechanism self-released their debut album “Infinite Fields” on Bandcamp. Twelve hours later the stream disappeared: Finnish label Blood Music signed the band after hearing just one song\, and set the album for physical release later in March 31\, 2015. \nSami Raatikainen (Necrophagist / Radiance) became a producer of the album. \nIn 2014 Andrei Parmon with whom Vlad has been acquainted from the childhood joined the group. Firstly as a concert guitarist as mostly he has been involved into some other projects but lately after several concerts he was so inspired by the material and guys’ professionalism that decided fully commit himself to the collaborative work with the band as a guitarist. \nIn 2015 band starts their partnership with a professional musician Pavel Semin as a bass guitarist. \nTo support their debut album „Infinite Fields” the band participates in concerts in Minsk and Moscow during 2016-2017. Along with it they started working on the second album. \nIn the middle of 2017 for drums recording as a session drummer Dan Presland famous for his work with Ne Obliviscaris and Alluvial is invited. \nBand Members:\nAndrew Parmon – guitar/vocals\nVladislav Nekrash – guitar/vocals\nPavel Semin – bass guitar\nIlya Studenok – vocals\nYan Aladov – session drums
URL:https://koncertywrzeszowie.pl/event/irreversible-mechanism-i-essence-of-datum-w-vinylu/
LOCATION:Klub Vinyl\, ul. Piłsudskiego 31\, Rzeszów
CATEGORIES:Klub Vinyl
ATTACH;FMTTYPE=image/jpeg:https://koncertywrzeszowie.pl/wp-content/uploads/2019/11/irreversible-mechanism-essence-of-datum-klub-vinyl.jpg
END:VEVENT
END:VCALENDAR