BEGIN:VCALENDAR
VERSION:2.0
PRODID:-//Koncert Rzeszów. Zobacz kto zagra w Rzeszowie! - ECPv6.15.20//NONSGML v1.0//EN
CALSCALE:GREGORIAN
METHOD:PUBLISH
X-WR-CALNAME:Koncert Rzeszów. Zobacz kto zagra w Rzeszowie!
X-ORIGINAL-URL:https://koncertywrzeszowie.pl
X-WR-CALDESC:Wydarzenia dla Koncert Rzeszów. Zobacz kto zagra w Rzeszowie!
REFRESH-INTERVAL;VALUE=DURATION:PT1H
X-Robots-Tag:noindex
X-PUBLISHED-TTL:PT1H
BEGIN:VTIMEZONE
TZID:Europe/Warsaw
BEGIN:DAYLIGHT
TZOFFSETFROM:+0100
TZOFFSETTO:+0200
TZNAME:CEST
DTSTART:20230326T010000
END:DAYLIGHT
BEGIN:STANDARD
TZOFFSETFROM:+0200
TZOFFSETTO:+0100
TZNAME:CET
DTSTART:20231029T010000
END:STANDARD
BEGIN:DAYLIGHT
TZOFFSETFROM:+0100
TZOFFSETTO:+0200
TZNAME:CEST
DTSTART:20240331T010000
END:DAYLIGHT
BEGIN:STANDARD
TZOFFSETFROM:+0200
TZOFFSETTO:+0100
TZNAME:CET
DTSTART:20241027T010000
END:STANDARD
BEGIN:DAYLIGHT
TZOFFSETFROM:+0100
TZOFFSETTO:+0200
TZNAME:CEST
DTSTART:20250330T010000
END:DAYLIGHT
BEGIN:STANDARD
TZOFFSETFROM:+0200
TZOFFSETTO:+0100
TZNAME:CET
DTSTART:20251026T010000
END:STANDARD
END:VTIMEZONE
BEGIN:VEVENT
DTSTART;TZID=Europe/Warsaw:20240322T190000
DTEND;TZID=Europe/Warsaw:20240322T220000
DTSTAMP:20260421T115416
CREATED:20240312T203633Z
LAST-MODIFIED:20240312T203753Z
UID:11081-1711134000-1711144800@koncertywrzeszowie.pl
SUMMARY:Intruz | Rzeszów - Pod Palmą
DESCRIPTION:INTRUZ to raper reprezentujący Opolską scenę hip-hopową\, urodzony w Opolu 18 października 1996r. Pierwszy nielegalny album rapera “Dante ulic”\, który wyszedł w 2019 roku mocno zapisał się na scenie Polskiego podziemia. Drugi\, a zarazem pierwszy legalny album spod szyldu opolskiej wytwórni “Lokalny chłopaczek” to mocne wydawnictwo! \nOtwarcie Klubu 19:00 \nBilety:\nI pula 59 PLN\nII pula 69 PLN\nIII pula oraz w dniu koncertu 79 PLN \nBilety z I puli w cenie 59 PLN do nabycia:\n►Kup Bilecik – Online: https://www.kupbilecik.pl/imprezy/121244/Rzesz%C3%B3w/Intruz/\n►Stage24 – Online: https://stage24.pl/events/pod-palma-2175 \nPunkty sprzedaży stacjonarnej:\n✶Rzeszów\, ul. Dąbrowskiego 17 (Sklep Muzyczny Riff) \n► Na stronie klubu:\nhttp://palma.rzeszow.pl/\nNa stronie danego wydarzenia na samym dole jest link „zamów bilet”:\n►Klikamy „zamów bilet”:\n►Wypełniamy dane.\n►Na maila przychodzi info z numerem konta.\n►Płacimy przelewem za określona liczbę sztuk.\n►Drukujemy potwierdzenie przelewu i przynosimy je w dniu koncertu/imprezy na bramkę.\n►Za okazaniem potwierdzenia wpłaty wchodzimy do klubu. \n 
URL:https://koncertywrzeszowie.pl/event/intruz-rzeszow-pod-palma/
CATEGORIES:Pod Palmą
ATTACH;FMTTYPE=image/jpeg:https://koncertywrzeszowie.pl/wp-content/uploads/2024/03/11081_image_424700512_418860590509573_6519297130652683999_n.jpg
END:VEVENT
END:VCALENDAR