BEGIN:VCALENDAR
VERSION:2.0
PRODID:-//Koncert Rzeszów. Zobacz kto zagra w Rzeszowie! - ECPv6.15.20//NONSGML v1.0//EN
CALSCALE:GREGORIAN
METHOD:PUBLISH
X-WR-CALNAME:Koncert Rzeszów. Zobacz kto zagra w Rzeszowie!
X-ORIGINAL-URL:https://koncertywrzeszowie.pl
X-WR-CALDESC:Wydarzenia dla Koncert Rzeszów. Zobacz kto zagra w Rzeszowie!
REFRESH-INTERVAL;VALUE=DURATION:PT1H
X-Robots-Tag:noindex
X-PUBLISHED-TTL:PT1H
BEGIN:VTIMEZONE
TZID:Europe/Warsaw
BEGIN:DAYLIGHT
TZOFFSETFROM:+0100
TZOFFSETTO:+0200
TZNAME:CEST
DTSTART:20150329T010000
END:DAYLIGHT
BEGIN:STANDARD
TZOFFSETFROM:+0200
TZOFFSETTO:+0100
TZNAME:CET
DTSTART:20151025T010000
END:STANDARD
BEGIN:DAYLIGHT
TZOFFSETFROM:+0100
TZOFFSETTO:+0200
TZNAME:CEST
DTSTART:20160327T010000
END:DAYLIGHT
BEGIN:STANDARD
TZOFFSETFROM:+0200
TZOFFSETTO:+0100
TZNAME:CET
DTSTART:20161030T010000
END:STANDARD
BEGIN:DAYLIGHT
TZOFFSETFROM:+0100
TZOFFSETTO:+0200
TZNAME:CEST
DTSTART:20170326T010000
END:DAYLIGHT
BEGIN:STANDARD
TZOFFSETFROM:+0200
TZOFFSETTO:+0100
TZNAME:CET
DTSTART:20171029T010000
END:STANDARD
END:VTIMEZONE
BEGIN:VEVENT
DTSTART;TZID=Europe/Warsaw:20160415T190000
DTEND;TZID=Europe/Warsaw:20160415T190000
DTSTAMP:20260424T105219
CREATED:20160412T185110Z
LAST-MODIFIED:20160412T190520Z
UID:2969-1460746800-1460746800@koncertywrzeszowie.pl
SUMMARY:III Konkurs Piosenki Turystycznej
DESCRIPTION:Już w najbliższy piątek w karczmie bieszczadzkiej „Połoniny u Misia i u Rysia” odbędzie się III Konkurs Piosenki Turystycznej – eliminator do festiwalu „Natchnieni Bieszczadem„\, który odbędzie się 22-23 lipca 2016 w Cisnej. \nGorąco zapraszamy wszystkie muzykujące osoby do udziału\, przyjmujemy zapisy i czekamy na Wasze zgłoszenia. \nWarunki uczestnictwa w konkursie: \nAby przystąpić do konkursu należy przygotować kilka utworów (przewidujemy wykonanie 3 utworów konkursowych przez każdego uczestnika)\, zanotować ich autorów oraz tytuły i zgromadzone informacje przesłać do nas.\nSwoją obecność zapowiedzieli znakomici Goście\, będą to m.in.: \n\nRyszard „Bury” Denisiuk\nPaweł Sikora\nPiotr Socha\nTadeusz Wojnarowski\n\nIII Konkurs Piosenki Turystycznej – Połoniny u Misia i u Rysia\nStart g. 19\nWstęp wolny! \nLink do wydarzenia na facebooku \nZgłoszenia przyjmowane telefonicznie: 737 624 527\n \n 
URL:https://koncertywrzeszowie.pl/event/iii-konkurs-piosenki-turystycznej/
LOCATION:Połoniny u Misia i Rysia\, Grunwaldzka 1\, Rzeszów
CATEGORIES:Festiwal
ATTACH;FMTTYPE=image/jpeg:https://koncertywrzeszowie.pl/wp-content/uploads/2016/04/3_konkurs_piosenki_turystycznej.jpg
END:VEVENT
END:VCALENDAR