BEGIN:VCALENDAR
VERSION:2.0
PRODID:-//Koncert Rzeszów. Zobacz kto zagra w Rzeszowie! - ECPv6.15.20//NONSGML v1.0//EN
CALSCALE:GREGORIAN
METHOD:PUBLISH
X-WR-CALNAME:Koncert Rzeszów. Zobacz kto zagra w Rzeszowie!
X-ORIGINAL-URL:https://koncertywrzeszowie.pl
X-WR-CALDESC:Wydarzenia dla Koncert Rzeszów. Zobacz kto zagra w Rzeszowie!
REFRESH-INTERVAL;VALUE=DURATION:PT1H
X-Robots-Tag:noindex
X-PUBLISHED-TTL:PT1H
BEGIN:VTIMEZONE
TZID:Europe/Warsaw
BEGIN:DAYLIGHT
TZOFFSETFROM:+0100
TZOFFSETTO:+0200
TZNAME:CEST
DTSTART:20120325T010000
END:DAYLIGHT
BEGIN:STANDARD
TZOFFSETFROM:+0200
TZOFFSETTO:+0100
TZNAME:CET
DTSTART:20121028T010000
END:STANDARD
BEGIN:DAYLIGHT
TZOFFSETFROM:+0100
TZOFFSETTO:+0200
TZNAME:CEST
DTSTART:20130331T010000
END:DAYLIGHT
BEGIN:STANDARD
TZOFFSETFROM:+0200
TZOFFSETTO:+0100
TZNAME:CET
DTSTART:20131027T010000
END:STANDARD
BEGIN:DAYLIGHT
TZOFFSETFROM:+0100
TZOFFSETTO:+0200
TZNAME:CEST
DTSTART:20140330T010000
END:DAYLIGHT
BEGIN:STANDARD
TZOFFSETFROM:+0200
TZOFFSETTO:+0100
TZNAME:CET
DTSTART:20141026T010000
END:STANDARD
END:VTIMEZONE
BEGIN:VEVENT
DTSTART;TZID=Europe/Warsaw:20131025T200000
DTEND;TZID=Europe/Warsaw:20131025T200000
DTSTAMP:20260424T103912
CREATED:20131020T173839Z
LAST-MODIFIED:20131020T173950Z
UID:791-1382731200-1382731200@koncertywrzeszowie.pl
SUMMARY:Hunk of Bread
DESCRIPTION:25 października w Rzeszowie odbędzie się konferencja\, której celem jest integracja i rozwój branż marketingowej i handlowej jednocześnie. Wiadome jest\, że przenikają się one wzajemnie niemal w każdym aspekcie. Mówi się również\, że handlowiec z marketerem to jak pies z kotem – nie umieją znaleźć wspólnego języka. Na konferencji MEGA będziemy udowadniać\, że te dwie branże mogą ze sobą współpracować płynnie a dzięki temu odnosić coraz większe i większe sukcesy. \nPo konferencji w pubie Mefisto odbędzie się integracja handlowców z marketerami i na odwrót\, a na scenie usłyszeć będzie można zespół Hunk of Bread. \n 
URL:https://koncertywrzeszowie.pl/event/hunk-bread/
LOCATION:Mefisto\, Rynek 16\, Rzeszów
CATEGORIES:Koncerty
ATTACH;FMTTYPE=image/png:https://koncertywrzeszowie.pl/wp-content/uploads/2013/10/konferencja-mega-rzeszow-25-10-2013.png
END:VEVENT
END:VCALENDAR