BEGIN:VCALENDAR
VERSION:2.0
PRODID:-//Koncert Rzeszów. Zobacz kto zagra w Rzeszowie! - ECPv6.15.20//NONSGML v1.0//EN
CALSCALE:GREGORIAN
METHOD:PUBLISH
X-WR-CALNAME:Koncert Rzeszów. Zobacz kto zagra w Rzeszowie!
X-ORIGINAL-URL:https://koncertywrzeszowie.pl
X-WR-CALDESC:Wydarzenia dla Koncert Rzeszów. Zobacz kto zagra w Rzeszowie!
REFRESH-INTERVAL;VALUE=DURATION:PT1H
X-Robots-Tag:noindex
X-PUBLISHED-TTL:PT1H
BEGIN:VTIMEZONE
TZID:Europe/Paris
BEGIN:DAYLIGHT
TZOFFSETFROM:+0100
TZOFFSETTO:+0200
TZNAME:CEST
DTSTART:20220327T010000
END:DAYLIGHT
BEGIN:STANDARD
TZOFFSETFROM:+0200
TZOFFSETTO:+0100
TZNAME:CET
DTSTART:20221030T010000
END:STANDARD
BEGIN:DAYLIGHT
TZOFFSETFROM:+0100
TZOFFSETTO:+0200
TZNAME:CEST
DTSTART:20230326T010000
END:DAYLIGHT
BEGIN:STANDARD
TZOFFSETFROM:+0200
TZOFFSETTO:+0100
TZNAME:CET
DTSTART:20231029T010000
END:STANDARD
BEGIN:DAYLIGHT
TZOFFSETFROM:+0100
TZOFFSETTO:+0200
TZNAME:CEST
DTSTART:20240331T010000
END:DAYLIGHT
BEGIN:STANDARD
TZOFFSETFROM:+0200
TZOFFSETTO:+0100
TZNAME:CET
DTSTART:20241027T010000
END:STANDARD
END:VTIMEZONE
BEGIN:VEVENT
DTSTART;TZID=Europe/Paris:20230325T200000
DTEND;TZID=Europe/Paris:20230325T220000
DTSTAMP:20260424T205844
CREATED:20230221T124013Z
LAST-MODIFIED:20230221T124318Z
UID:9824-1679774400-1679781600@koncertywrzeszowie.pl
SUMMARY:Grzegorz Janczak Szanty - SPÓDZIELNIA Ludzi Morza - Koncert.
DESCRIPTION:Zapraszamy Was do miejsca gdzie zawsze czujecie się jak w domu\, a piwo smakuje jak u mamy. \nPrzy dźwiękach Pieśni Ludzi Morza przypomnicie sobie najdalsze z najdalszych rejsów\, a serca znowu zatęsknią za poranną bryzą na twarzy.\nFlaga powędruje w górę\, Grzegorz Janczak i Piotr Czyżowski zagrają\, śpiewy popłyną pod sufit\, a bar zabrzmi odgłosami wesołych toastów. \nZapraszamy Was serdecznie na koncert pt. SPÓDZIELNIA Ludzi Morza\, który kierowany jest i dla ludzi morza jak i wszystkich miłośników muzyki szantowej\, irlandzkiej\, celtyckiej\, folku\, neofolku i bluegrassu i dobrej przyjacielskiej zabawy wypełnionej historiami z najdalszych stron bezkresnych oceanów.\nAby mieć pewne miejsce sugerujemy wcześniejszą rezerwację stolików dzwoniąc pod nr tel. +48 690 350 944 \n 
URL:https://koncertywrzeszowie.pl/event/grzegorz-janczak-szanty-spodzielnia-ludzi-morza-koncert/
LOCATION:Pub Spółdzielczy Rzeszów\, Aleksandra Fredry 4\, Rzeszów\, podkarpackie\, 35-235\, Poland
CATEGORIES:Pub Spółdzielczy
ATTACH;FMTTYPE=image/jpeg:https://koncertywrzeszowie.pl/wp-content/uploads/2023/02/9824_image_332391721_1284839835409248_957466665340532957_n.jpg
END:VEVENT
END:VCALENDAR