BEGIN:VCALENDAR
VERSION:2.0
PRODID:-//Koncert Rzeszów. Zobacz kto zagra w Rzeszowie! - ECPv6.15.20//NONSGML v1.0//EN
CALSCALE:GREGORIAN
METHOD:PUBLISH
X-WR-CALNAME:Koncert Rzeszów. Zobacz kto zagra w Rzeszowie!
X-ORIGINAL-URL:https://koncertywrzeszowie.pl
X-WR-CALDESC:Wydarzenia dla Koncert Rzeszów. Zobacz kto zagra w Rzeszowie!
REFRESH-INTERVAL;VALUE=DURATION:PT1H
X-Robots-Tag:noindex
X-PUBLISHED-TTL:PT1H
BEGIN:VTIMEZONE
TZID:Europe/Warsaw
BEGIN:DAYLIGHT
TZOFFSETFROM:+0100
TZOFFSETTO:+0200
TZNAME:CEST
DTSTART:20200329T010000
END:DAYLIGHT
BEGIN:STANDARD
TZOFFSETFROM:+0200
TZOFFSETTO:+0100
TZNAME:CET
DTSTART:20201025T010000
END:STANDARD
BEGIN:DAYLIGHT
TZOFFSETFROM:+0100
TZOFFSETTO:+0200
TZNAME:CEST
DTSTART:20210328T010000
END:DAYLIGHT
BEGIN:STANDARD
TZOFFSETFROM:+0200
TZOFFSETTO:+0100
TZNAME:CET
DTSTART:20211031T010000
END:STANDARD
BEGIN:DAYLIGHT
TZOFFSETFROM:+0100
TZOFFSETTO:+0200
TZNAME:CEST
DTSTART:20220327T010000
END:DAYLIGHT
BEGIN:STANDARD
TZOFFSETFROM:+0200
TZOFFSETTO:+0100
TZNAME:CET
DTSTART:20221030T010000
END:STANDARD
END:VTIMEZONE
BEGIN:VEVENT
DTSTART;TZID=Europe/Warsaw:20211218T190000
DTEND;TZID=Europe/Warsaw:20211218T210000
DTSTAMP:20260421T120025
CREATED:20211208T221744Z
LAST-MODIFIED:20211208T222207Z
UID:8116-1639854000-1639861200@koncertywrzeszowie.pl
SUMMARY:Grzane Wino - Koncert premierowy albumu "Melodie nocy"
DESCRIPTION:Przedstawiamy nietuzinkowe wydarzenie\, które poprzez swój magiczny charakter przeniesie Państwa w kojący świat Krainy Łagodności. \nGrzane Wino – „Melodie nocy”\nZupełnie inna niż poprzednie\, trzecia płyta zespołu Grzane Wino – „Melodie nocy”\, to już nie tylko poezja śpiewana i piosenka turystyczna – to nowe uczucia\, różnorodne dźwięki\, egzotyczne rytmy i pełen wachlarz emocji. Całość ujęta w trzynastu utworach zebranych na nowym krążku. \nMają Państwo okazję usłyszeć wszystkie najnowsze kompozycje podczas premierowego koncertu.\nWartościowe teksty ubrane w niezwykłe dźwięki płynące prosto z serc i dusz muzyków.\nPrzez 90 minut Artyści przenosić będą Państwa to tajemnych zakamarków własnego wnętrza\, do nieodkrytych miejsc\, poruszą wrażliwość i zapewnią dobrą zabawę. \nGrzane Wino posiada już w swoim dorobku dwie płyty „Bieszczady” (2018) oraz „Zielone pudełko” (2020). Jak więc widać artyści nie zwalniają tempa. \nNagradzani byli wielokrotnie na festiwalach\, a najważniejsze osiągnięcie to:\n2021 – OSPPT YAPA 2021 – Wyróżnienie za całokształt twórczości\n2020 – Międzynarodowy Festiwal Interporta – 1 miejsce\n2019 – Festiwal Piosenki Studenckiej i Turystycznej BAKCYNALIA – 1 miejsce\n2019 – Festiwal „Kropka 2019” PUCH – 2 miejsce\n2019 – OPPT Nocnik w Łęczycy – 1 miejsce\n2018 – OFPPiT „PRZY KOMINKU” w Kielcach– 3 miejsce\, nagroda specjalna im. Grzegorza Pecela i nagroda publiczności\n2018 – Festiwal Danielka – GRAND PRIX ! (Kryształ Danielki – Nagroda główna festiwalu)\n2018 – Giełda Piosenki w Szklarskiej Porębie – 2 miejsce\n2018 – Przegląd Bazuna – 2 piosenki laureatki i wyróżnienie dla gitarzysty\n2017 – Ogólnopolski Festiwal Natchnieni Bieszczadem – 1 miejsce\n2016 – Przegląd Piosenki Turystycznej Barwinek – 1 miejsce \nSerdecznie zapraszamy na tę wspaniałą muzyczną ucztę.\nBilety: https://biletyna.pl/koncert/Grzane-Wino/Melodie-nocy
URL:https://koncertywrzeszowie.pl/event/grzane-wino-koncert-premierowy-albumu-melodie-nocy/
CATEGORIES:Koncerty
ATTACH;FMTTYPE=image/jpeg:https://koncertywrzeszowie.pl/wp-content/uploads/2021/12/8116_image_264960165_573912494002759_8370903070573770782_n.jpg
END:VEVENT
END:VCALENDAR