BEGIN:VCALENDAR
VERSION:2.0
PRODID:-//Koncert Rzeszów. Zobacz kto zagra w Rzeszowie! - ECPv6.15.20//NONSGML v1.0//EN
CALSCALE:GREGORIAN
METHOD:PUBLISH
X-WR-CALNAME:Koncert Rzeszów. Zobacz kto zagra w Rzeszowie!
X-ORIGINAL-URL:https://koncertywrzeszowie.pl
X-WR-CALDESC:Wydarzenia dla Koncert Rzeszów. Zobacz kto zagra w Rzeszowie!
REFRESH-INTERVAL;VALUE=DURATION:PT1H
X-Robots-Tag:noindex
X-PUBLISHED-TTL:PT1H
BEGIN:VTIMEZONE
TZID:Europe/Warsaw
BEGIN:DAYLIGHT
TZOFFSETFROM:+0100
TZOFFSETTO:+0200
TZNAME:CEST
DTSTART:20220327T010000
END:DAYLIGHT
BEGIN:STANDARD
TZOFFSETFROM:+0200
TZOFFSETTO:+0100
TZNAME:CET
DTSTART:20221030T010000
END:STANDARD
BEGIN:DAYLIGHT
TZOFFSETFROM:+0100
TZOFFSETTO:+0200
TZNAME:CEST
DTSTART:20230326T010000
END:DAYLIGHT
BEGIN:STANDARD
TZOFFSETFROM:+0200
TZOFFSETTO:+0100
TZNAME:CET
DTSTART:20231029T010000
END:STANDARD
BEGIN:DAYLIGHT
TZOFFSETFROM:+0100
TZOFFSETTO:+0200
TZNAME:CEST
DTSTART:20240331T010000
END:DAYLIGHT
BEGIN:STANDARD
TZOFFSETFROM:+0200
TZOFFSETTO:+0100
TZNAME:CET
DTSTART:20241027T010000
END:STANDARD
END:VTIMEZONE
BEGIN:VEVENT
DTSTART;TZID=Europe/Warsaw:20231005T200000
DTEND;TZID=Europe/Warsaw:20231007T220000
DTSTAMP:20260424T172730
CREATED:20230915T081527Z
LAST-MODIFIED:20231122T103233Z
UID:10424-1696536000-1696716000@koncertywrzeszowie.pl
SUMMARY:Festiwal Wolności Twórczej 2023 – Natura Słowa
DESCRIPTION:W dniach 5-7 października 2023 w Rzeszowie odbędzie się 4. edycja Festiwalu Wolności Twórczej – interdyscyplinarnego cyklu wydarzeń ukazującego różne aspekty wolności artystycznej. W tym roku gwiazdami festiwalu będzie powracająca po latach ciszy z płytą „Ostatnie Słowo” formacja Afro Kolektyw. \nW programie również premierowy koncert Gaby Janusz i Konrada Barana – Zaśpiewam wam wierszem\, z poezją polskich twórców zaśpiewaną do akompaniamentu wibrafonu\, „De Plantis” – wystawa fotografii Soni „Kokoshki” Gorczak oraz Dzień z Leopoldem Tyrmandem w Kino za Rogiem Cafe\, podczas którego odbędzie się spotkanie autorskie z pisarzem Marcelem Woźniakiem\, autorem biografii Leopolda Tyrmanda oraz projekcja filmu dokumentalnego „Leopold Tyrmand – życie bez kompromisów”. \nZwieńczeniem dnia będzie biletowane wydarzenie dodatkowe\, koncert formacji Eskaubei & Tomek Nowak Quartet – Tyrmand to Jazz z przedmową Marcela Woźniaka. \n\nFestiwal Wolności Twórczej organizuje rzeszowskie Stowarzyszenie Podkultura. Festiwal jest dofinansowany z budżetu Gminy Miasto Rzeszów. \nCzwartek – 5 października – Rzeszowskie Piwnice – 20:00\nKoncert: Afro Kolektyw – koncert promujący album „Ostatnie Słowo”. 20:00 \n \nPo 10 latach Afro Kolektyw wraca do Rzeszowa. Zespół\, który reaktywował działalność i uraczył nas w tym roku albumem „Ostatnie słowo” wystąpi w Rzeszowskich Piwnicach 5 października o 20 prezentując przekrojowy materiał z naciskiem na ostatni album. Na koncert obowiązują darmowe wejściówki\, które można rezerwować w sieci pod linkiem – https://www.interankiety.pl/f/64l6AEZ7 \nPiątek – 6 października – Kino za Rogiem Cafe\n19:30 – Wernisaż wystawy fotografii. Sonia „Kokoshka” Gorczak – De Plantis.\n20:30 – Premierowy koncert: Gaba Janusz x Konrad Baran – Zaśpiewam Wam wierszem. Poezje na wibrafon. Wstęp po zarezerwowaniu darmowych wejściówek – https://www.interankiety.pl/f/xMqXe889 \n  \n \n  \nSobota – 7 października – Dzień z Tyrmandem – Kino za Rogiem Cafe – 17:00\, 20:00\nW sobotę zapraszamy na dzień z twórczością pisarza i propagatora jazzu Leopolda Tyrmanda\, postaci jak mało która wpisującej się w ideę wolności twórczej. \nW ramach głównej części Festiwalu odbędzie się spotkanie autorskie z Marcelem Woźniakiem\, pisarzem\, autorem biografii Leopolda Tyrmanda „Moja śmierć będzie taka jak moje życie”. W Sali kinowej Kino za Rogiem Cafe zostanie również zaprezentowany dokument „Leopold Tyrmand – życie bez kompromisów”. W reżyserii Tomasza Sokołowskiego\, według scenariusza Agnieszki Gasper i Marcela Woźniaka. Wstęp na wydarzenia jest wolny. \n \nWydarzeniem towarzyszącym i wieńczącym dzień z Tyrmandem\, będzie zorganizowany przez Kino za Rogiem Cafe i Stowarzyszenie Podkultura biletowany koncert jazzowo rapowej formacji Eskaubei & Tomek Nowak Quartet – Tyrmand to Jazz prezentujący materiał z inspirowanej życiem i twórczością Leopolda Tyrmanda płyty winylowej „Tyrmand to Jazz”. Wprowadzenie do koncertu wygłosi Marcel Woźniak. Partnerem wydarzenia jest firma Browamator. \nBilety – https://niezla-sztuka.pl/pl/i/Bilety/15\nDostępne również stacjonarnie w Kino za Rogiem Cafe ul. Św. Mikołaja 6 w Rzeszowie. \n \n  \nDodatkowo w piątek\, 6 października o godz. 18 w Kino za Rogiem Cafe będzie można obejrzeć film „Pan T” Marcina Krzyształowicza. \nFestiwal Wolności Twórczej 2023 – Natura Słowa.\nProgram festiwalu: \n5 października – Rzeszowskie Piwnice\n20:00 – AFRO KOLEKTYW – koncert! – darmowe wejściówki \n6 października – Kino za Rogiem Cafe Rzeszów\n18:00 – Pan T – projekcja filmu (wstęp 10 PLN)\n19:30 – Sonia „Kokoshka” Gorczak – „De Plantis” – wernisaż wystawy fotografii (wstęp wolny)\n20:30 – Gaba Janusz / Konrad Baran – „Zaśpiewam Wam wierszem. Poezje na wibrafon” – koncert premierowy. \n7 października – Kino za Rogiem Cafe Rzeszów Dzień z Leopoldem Tyrmandem\n17:00 – Spotkanie autorskie z Marcelem Woźniakiem i projekcja filmu dokumentalnego „Leopold Tyrmand. Życie bez kompromisów”. (wstęp wolny)\n20:00 – Koncert Eskaubei & Tomek Nowak Quartet – Tyrmand to Jazz z przedmową Marcela Woźniaka. Wstęp: 50 PLN
URL:https://koncertywrzeszowie.pl/event/festiwal-wolnosci-tworczej-2023-natura-slowa/
CATEGORIES:Festiwal
ATTACH;FMTTYPE=image/jpeg:https://koncertywrzeszowie.pl/wp-content/uploads/2023/09/festiwal-wolnosci-tworczej-2023.jpg
END:VEVENT
END:VCALENDAR