BEGIN:VCALENDAR
VERSION:2.0
PRODID:-//Koncert Rzeszów. Zobacz kto zagra w Rzeszowie! - ECPv6.15.20//NONSGML v1.0//EN
CALSCALE:GREGORIAN
METHOD:PUBLISH
X-WR-CALNAME:Koncert Rzeszów. Zobacz kto zagra w Rzeszowie!
X-ORIGINAL-URL:https://koncertywrzeszowie.pl
X-WR-CALDESC:Wydarzenia dla Koncert Rzeszów. Zobacz kto zagra w Rzeszowie!
REFRESH-INTERVAL;VALUE=DURATION:PT1H
X-Robots-Tag:noindex
X-PUBLISHED-TTL:PT1H
BEGIN:VTIMEZONE
TZID:Europe/Warsaw
BEGIN:DAYLIGHT
TZOFFSETFROM:+0100
TZOFFSETTO:+0200
TZNAME:CEST
DTSTART:20180325T010000
END:DAYLIGHT
BEGIN:STANDARD
TZOFFSETFROM:+0200
TZOFFSETTO:+0100
TZNAME:CET
DTSTART:20181028T010000
END:STANDARD
BEGIN:DAYLIGHT
TZOFFSETFROM:+0100
TZOFFSETTO:+0200
TZNAME:CEST
DTSTART:20190331T010000
END:DAYLIGHT
BEGIN:STANDARD
TZOFFSETFROM:+0200
TZOFFSETTO:+0100
TZNAME:CET
DTSTART:20191027T010000
END:STANDARD
BEGIN:DAYLIGHT
TZOFFSETFROM:+0100
TZOFFSETTO:+0200
TZNAME:CEST
DTSTART:20200329T010000
END:DAYLIGHT
BEGIN:STANDARD
TZOFFSETFROM:+0200
TZOFFSETTO:+0100
TZNAME:CET
DTSTART:20201025T010000
END:STANDARD
END:VTIMEZONE
BEGIN:VEVENT
DTSTART;TZID=Europe/Warsaw:20191129T200000
DTEND;TZID=Europe/Warsaw:20191129T230000
DTSTAMP:20260424T122446
CREATED:20190828T185421Z
LAST-MODIFIED:20191129T081453Z
UID:6654-1575057600-1575068400@koncertywrzeszowie.pl
SUMMARY:Farben Lehre + the Pajx\, Ereles | Klub Vinyl
DESCRIPTION:FARBEN LEHRE\nFARBEN LEHRE powstało we wrześniu 1986 roku. Od tamtego czasu ukazało się 13 płyt studyjnych: „Bez pokory”\, „My maszyny”\, „Insekty”\, „Zdrada”\, „Atomowe zabawki”\, „Pozytywka”\, „Farbenheit”\, „Snukraina”\, „Ferajna”\, „Achtung 2012”\, „Projekt PUNK”\, „Trzy dekady”\, „Stacja Wolność”\, koncertowa kaseta „Samo życie”\, trzy oficjalne dvd: „Przystanek Woodstock 2006”\, „Punky Reggae live 2008”\, „Przystanek Woodstock 2013 – Projekt PUNK” oraz liczne kompilacje. \nOd wielu lat zespół bardzo dużo koncertuje zarówno w Polsce\, jak i za granicą. Na swoim koncie płoccy muzycy mają występy u boku tak znaczących formacji jak the Exploited\, Die Toten Hosen\, New Model Army\, U.K.Subs\, G.B.H.\, Vibrators czy Dritte Wahl\, . W ostatnich 15 latach FL zagrało ponad 1500 koncertów\, co sytuuje go w gronie najczęściej koncertujących polskich (i nie tylko) zespołów. Od 2004 roku FARBEN LEHRE był pomysłodawcą oraz jednym z głównych wykonawców trasy koncertowej Punky Reggae live\, która rokrocznie odwiedzała kilkadziesiąt klubów w większości dużych polskich miast\, a w 2018 roku – po kilka latach przerwy – ponownie powróciła na polską mapę koncertową. \nŻywiołowe koncerty zawsze grane „na maksa” to bez wątpienia znak rozpoznawczy kapeli z Płocka. Od piętnastu lat zespół gra blisko 100 koncertów rocznie i wciąż aktywnie udziela się na wielu scenach naszego kraju oraz za jego granicami. Aktualnie muzycy podczas koncertów promują swoją najnowszą płytę studyjną „Stacja Wolność”\, która ukazała się na początku września 2018 roku \nMuzyka FARBEN LEHRE jest energiczna\, melodyjna\, pełna radości grania i wolna od kompleksów. Ostre\, aczkolwiek przystępne dźwięki oraz garść szczerych słów stanowią próbę duchowego porozumienia się z drugim człowiekiem. Najważniejsze utwory to „Anioły i demony”\, „Dobranoc”\, „Erato”\, „Ferajna”\, „Handel”\, „Helikoptery”\, „Judasz”\, „Matura” \, „Spodnie z GS-u”\, „Stacja Wolność” czy „Terrorystan”. \nSKŁAD:\nWojciech Wojda – wokal\, teksty\nKonrad Wojda – gitara\, wokal\nFilip Grodzicki – gitara basowa\nGerard Klawe – perkusja \n  \n \nERELES\nERELES – czyli Zespół Niespokojnych Nóg\, to trzech muzyków znanej w Polsce formacji KABANOS. Wieloletnie doświadczenie sceniczne\, miłość do muzyki\, wspólna pasja\, przyjaźń i ciężka praca sprawiły\, że artyści zagrali na największych festiwalach w kraju. Jednym z wielu sukcesów jest Złoty Bączek Przystanku Woodstock\, czyli nagroda publiczności za najlepszy koncert. \nERELES zaistniał w 2018 roku wydając swoją debiutancką płytę pt. „Krok Odwagi”. Od tego czasu grupa zagrała już kilkadziesiąt koncertów w całej Polsce\, zdobywając pokaźną grupę fanów i występując u boku m.in. Kabanos\, Farben Lehre\, Proletaryat\, The Analogs\, Nocny Kochanek\, czy Closterkeller.\nAlbum miał premierę 22.03.2018 roku i otrzymał pozytywne recenzje w publikacjach prasowych (m.in. TERAZ ROCK) oraz portalach internetowych. Ich muzyka to połączenie rocka i grunge’u z dawką elektronicznych brzmień w tle. Teksty są szeroką obserwacją świata i człowieka\, a wszystko napisane pod wpływem emocji\, prosto z serca i w języku polskim. \nNominowani w dwóch kategoriach ANTYRADIA: „Płyta Rocku 2018” oraz „Przebój Rocku 2018”. Wyróżnieni przez TERAZ ROCK w rankingu Teraz Najlepsi 2018\, w kategorii „Nadzieja Tu”. \nSkład zespołu:\nArkadiusz „Lodzia” Grochowski (śpiew\, gitara)\nDamian „Fons” Biernacki (bas)\nMarcin „Dudzik” Dudzicki (perkusja) \nERELES – Krok Odwagi\n \n 
URL:https://koncertywrzeszowie.pl/event/farben-lehre-the-pajx-ereles-klub-vinyl/
LOCATION:Klub Vinyl\, ul. Piłsudskiego 31\, Rzeszów
CATEGORIES:Klub Vinyl
ATTACH;FMTTYPE=image/jpeg:https://koncertywrzeszowie.pl/wp-content/uploads/2019/08/stacja-wolnosc-farben-lehre.jpg
END:VEVENT
END:VCALENDAR