BEGIN:VCALENDAR
VERSION:2.0
PRODID:-//Koncert Rzeszów. Zobacz kto zagra w Rzeszowie! - ECPv6.15.20//NONSGML v1.0//EN
CALSCALE:GREGORIAN
METHOD:PUBLISH
X-WR-CALNAME:Koncert Rzeszów. Zobacz kto zagra w Rzeszowie!
X-ORIGINAL-URL:https://koncertywrzeszowie.pl
X-WR-CALDESC:Wydarzenia dla Koncert Rzeszów. Zobacz kto zagra w Rzeszowie!
REFRESH-INTERVAL;VALUE=DURATION:PT1H
X-Robots-Tag:noindex
X-PUBLISHED-TTL:PT1H
BEGIN:VTIMEZONE
TZID:Europe/Warsaw
BEGIN:DAYLIGHT
TZOFFSETFROM:+0100
TZOFFSETTO:+0200
TZNAME:CEST
DTSTART:20170326T010000
END:DAYLIGHT
BEGIN:STANDARD
TZOFFSETFROM:+0200
TZOFFSETTO:+0100
TZNAME:CET
DTSTART:20171029T010000
END:STANDARD
BEGIN:DAYLIGHT
TZOFFSETFROM:+0100
TZOFFSETTO:+0200
TZNAME:CEST
DTSTART:20180325T010000
END:DAYLIGHT
BEGIN:STANDARD
TZOFFSETFROM:+0200
TZOFFSETTO:+0100
TZNAME:CET
DTSTART:20181028T010000
END:STANDARD
BEGIN:DAYLIGHT
TZOFFSETFROM:+0100
TZOFFSETTO:+0200
TZNAME:CEST
DTSTART:20190331T010000
END:DAYLIGHT
BEGIN:STANDARD
TZOFFSETFROM:+0200
TZOFFSETTO:+0100
TZNAME:CET
DTSTART:20191027T010000
END:STANDARD
END:VTIMEZONE
BEGIN:VEVENT
DTSTART;TZID=Europe/Warsaw:20181027T200000
DTEND;TZID=Europe/Warsaw:20181027T220000
DTSTAMP:20260424T122458
CREATED:20180808T071248Z
LAST-MODIFIED:20180808T071248Z
UID:5057-1540670400-1540677600@koncertywrzeszowie.pl
SUMMARY:Edyta Górniak w Rzeszowie
DESCRIPTION:  \nMimo setek wystąpień na wielkich scenach także światowych\, Edyta Górniak po raz pierwszy wyrusza w trasę tak niezwykle intymną… Usłyszymy jej największe przeboje\, ale także utwory z płyt\, które nigdy wcześniej nie były wykonywane publicznie. To wielka gratka\, szczególnie dla największych smakoszy twórczości Edyty. \nZapraszamy na wyjątkowe\, muzyczne i tak długo oczekiwane spotkanie z Artystką najwyższej klasy głosu\, w towarzystwie muzyki na żywo.
URL:https://koncertywrzeszowie.pl/event/edyta-gorniak-w-rzeszowie/
CATEGORIES:Filharmonia Podkarpacka,Koncerty
ATTACH;FMTTYPE=image/jpeg:https://koncertywrzeszowie.pl/wp-content/uploads/2018/08/edyta_gorniak-rzeszow-filharmonia.jpg
END:VEVENT
END:VCALENDAR