BEGIN:VCALENDAR
VERSION:2.0
PRODID:-//Koncert Rzeszów. Zobacz kto zagra w Rzeszowie! - ECPv6.15.20//NONSGML v1.0//EN
CALSCALE:GREGORIAN
METHOD:PUBLISH
X-WR-CALNAME:Koncert Rzeszów. Zobacz kto zagra w Rzeszowie!
X-ORIGINAL-URL:https://koncertywrzeszowie.pl
X-WR-CALDESC:Wydarzenia dla Koncert Rzeszów. Zobacz kto zagra w Rzeszowie!
REFRESH-INTERVAL;VALUE=DURATION:PT1H
X-Robots-Tag:noindex
X-PUBLISHED-TTL:PT1H
BEGIN:VTIMEZONE
TZID:Europe/Warsaw
BEGIN:DAYLIGHT
TZOFFSETFROM:+0100
TZOFFSETTO:+0200
TZNAME:CEST
DTSTART:20150329T010000
END:DAYLIGHT
BEGIN:STANDARD
TZOFFSETFROM:+0200
TZOFFSETTO:+0100
TZNAME:CET
DTSTART:20151025T010000
END:STANDARD
BEGIN:DAYLIGHT
TZOFFSETFROM:+0100
TZOFFSETTO:+0200
TZNAME:CEST
DTSTART:20160327T010000
END:DAYLIGHT
BEGIN:STANDARD
TZOFFSETFROM:+0200
TZOFFSETTO:+0100
TZNAME:CET
DTSTART:20161030T010000
END:STANDARD
BEGIN:DAYLIGHT
TZOFFSETFROM:+0100
TZOFFSETTO:+0200
TZNAME:CEST
DTSTART:20170326T010000
END:DAYLIGHT
BEGIN:STANDARD
TZOFFSETFROM:+0200
TZOFFSETTO:+0100
TZNAME:CET
DTSTART:20171029T010000
END:STANDARD
END:VTIMEZONE
BEGIN:VEVENT
DTSTART;TZID=Europe/Warsaw:20160420T160000
DTEND;TZID=Europe/Warsaw:20160421T235500
DTSTAMP:20260420T195116
CREATED:20160418T181749Z
LAST-MODIFIED:20160418T181801Z
UID:2981-1461168000-1461282900@koncertywrzeszowie.pl
SUMMARY:Dni kampusu ZALESIE. Zagrają ReggaeGang System i ShanteL
DESCRIPTION:Samorząd Studentów Wydziału Ekonomii oraz Wydziału Biologiczno-Rolniczego organizują imprezę plenerową „Dni Kampusu Akademickiego Zalesie” przewidzianą na 20 – 21 kwietnia 2016 r. \nPiknik odbędzie się na terenie miasteczka studenckiego przy ulicy Ćwiklińskiej 2. \nCelem imprezy jest integracja braci studenckiej. W planie przewidujemy turnieje sportowe\, rozgrywki siatkówki\, piłki nożnej oraz tenisa stołowego\, liczne konkursy z nagrodami\, wspólne biesiadowanie i grillowanie. \nPierwszym z zespołów występujących podczas koncertu pod gwiazdami będzie ReggaeGang System. Gwiazdą wieczoru również będzie ShanteL. Dodatkowo oprawę muzyczną zapewni DJ Andrew. \n  \nLink do wydarzenia na facebooku \n  \nReggaeGang System na Youtube:\nhttps://www.youtube.com/watch?v=skTdvgR6r50 \n 
URL:https://koncertywrzeszowie.pl/event/dni-kampusu-zalesie-zagraja-reggaegang-system-shantel/
LOCATION:Kampus Zalesie\, Ćwiklińskiej 2\, Rzeszów\, Polska
CATEGORIES:Koncerty
ATTACH;FMTTYPE=image/jpeg:https://koncertywrzeszowie.pl/wp-content/uploads/2016/04/dni-kampusu-zalesie.jpg
END:VEVENT
END:VCALENDAR