BEGIN:VCALENDAR
VERSION:2.0
PRODID:-//Koncert Rzeszów. Zobacz kto zagra w Rzeszowie! - ECPv6.15.20//NONSGML v1.0//EN
CALSCALE:GREGORIAN
METHOD:PUBLISH
X-WR-CALNAME:Koncert Rzeszów. Zobacz kto zagra w Rzeszowie!
X-ORIGINAL-URL:https://koncertywrzeszowie.pl
X-WR-CALDESC:Wydarzenia dla Koncert Rzeszów. Zobacz kto zagra w Rzeszowie!
REFRESH-INTERVAL;VALUE=DURATION:PT1H
X-Robots-Tag:noindex
X-PUBLISHED-TTL:PT1H
BEGIN:VTIMEZONE
TZID:Europe/Warsaw
BEGIN:DAYLIGHT
TZOFFSETFROM:+0100
TZOFFSETTO:+0200
TZNAME:CEST
DTSTART:20230326T010000
END:DAYLIGHT
BEGIN:STANDARD
TZOFFSETFROM:+0200
TZOFFSETTO:+0100
TZNAME:CET
DTSTART:20231029T010000
END:STANDARD
BEGIN:DAYLIGHT
TZOFFSETFROM:+0100
TZOFFSETTO:+0200
TZNAME:CEST
DTSTART:20240331T010000
END:DAYLIGHT
BEGIN:STANDARD
TZOFFSETFROM:+0200
TZOFFSETTO:+0100
TZNAME:CET
DTSTART:20241027T010000
END:STANDARD
BEGIN:DAYLIGHT
TZOFFSETFROM:+0100
TZOFFSETTO:+0200
TZNAME:CEST
DTSTART:20250330T010000
END:DAYLIGHT
BEGIN:STANDARD
TZOFFSETFROM:+0200
TZOFFSETTO:+0100
TZNAME:CET
DTSTART:20251026T010000
END:STANDARD
END:VTIMEZONE
BEGIN:VEVENT
DTSTART;TZID=Europe/Warsaw:20240113T190000
DTEND;TZID=Europe/Warsaw:20240113T190000
DTSTAMP:20260422T102911
CREATED:20240103T081108Z
LAST-MODIFIED:20240103T081353Z
UID:10775-1705172400-1705172400@koncertywrzeszowie.pl
SUMMARY:HERMETIC EVOLUTION | TAPHONOMY | I REFUSE - Pub Spółdzielczy Rzeszów
DESCRIPTION:Death’s End Concert\nMetal w 3 różnych odsłonach. \nHERMETIC EVOLUTION – Rzeszowski skład założony w 2011 roku. Muzyczna hybryda metalu i elektroniki. Muzyczną bazę zespołu charakteryzują eksperymentalne wokale\, mechaniczny groove i nisko nastrojone gitary zwieńczone kosmiczną elektroniką.\nhttps://www.youtube.com/HermeticEvolution\nhttps://www.facebook.com/HermeticEvolution \nTAPHONOMY – Blackened death metal (Lublin)\nW ich łojeniu usłyszymy naleciałości takich gatunków jak death metal\, black metal oraz slam. Kompozycje bogate w częste zmiany tempa\, blasty\, miażdżące breakdowny i klimatyczne partie gitar.\nhttps://www.facebook.com/TaphonomyPL/\nhttps://taphonomy.bandcamp.com/releases \nI REFUSE – death/grind (Iłża)\nSzaleńcze tempa\, ohydne wokalne\, miażdżące mieszanka tego co najlepsze w gatunku.\nhttps://www.facebook.com/I.REFUSE1\nhttps://irefuse2004.bandcamp.com/ \n13 – 01 – 2024\nPub Spółdzielczy Rzeszów – Aleksandra Fredry 4\nSTART\nGodzina 19:00\nBILETY:\n30 zł na bramce\nCzasówka niebawem
URL:https://koncertywrzeszowie.pl/event/deaths-end-concert-hermetic-evolution-taphonomy-i-refuse-pub-spoldzielczy-rzeszow/
CATEGORIES:Pub Spółdzielczy
ATTACH;FMTTYPE=image/jpeg:https://koncertywrzeszowie.pl/wp-content/uploads/2024/01/10775_image_407897391_862928885832668_6232421303526798969_n.jpg
END:VEVENT
END:VCALENDAR