BEGIN:VCALENDAR
VERSION:2.0
PRODID:-//Koncert Rzeszów. Zobacz kto zagra w Rzeszowie! - ECPv6.15.20//NONSGML v1.0//EN
CALSCALE:GREGORIAN
METHOD:PUBLISH
X-WR-CALNAME:Koncert Rzeszów. Zobacz kto zagra w Rzeszowie!
X-ORIGINAL-URL:https://koncertywrzeszowie.pl
X-WR-CALDESC:Wydarzenia dla Koncert Rzeszów. Zobacz kto zagra w Rzeszowie!
REFRESH-INTERVAL;VALUE=DURATION:PT1H
X-Robots-Tag:noindex
X-PUBLISHED-TTL:PT1H
BEGIN:VTIMEZONE
TZID:Europe/Warsaw
BEGIN:DAYLIGHT
TZOFFSETFROM:+0100
TZOFFSETTO:+0200
TZNAME:CEST
DTSTART:20130331T010000
END:DAYLIGHT
BEGIN:STANDARD
TZOFFSETFROM:+0200
TZOFFSETTO:+0100
TZNAME:CET
DTSTART:20131027T010000
END:STANDARD
BEGIN:DAYLIGHT
TZOFFSETFROM:+0100
TZOFFSETTO:+0200
TZNAME:CEST
DTSTART:20140330T010000
END:DAYLIGHT
BEGIN:STANDARD
TZOFFSETFROM:+0200
TZOFFSETTO:+0100
TZNAME:CET
DTSTART:20141026T010000
END:STANDARD
BEGIN:DAYLIGHT
TZOFFSETFROM:+0100
TZOFFSETTO:+0200
TZNAME:CEST
DTSTART:20150329T010000
END:DAYLIGHT
BEGIN:STANDARD
TZOFFSETFROM:+0200
TZOFFSETTO:+0100
TZNAME:CET
DTSTART:20151025T010000
END:STANDARD
END:VTIMEZONE
BEGIN:VEVENT
DTSTART;TZID=Europe/Warsaw:20140126T180000
DTEND;TZID=Europe/Warsaw:20140126T210000
DTSTAMP:20260419T162437
CREATED:20140122T222945Z
LAST-MODIFIED:20140122T222945Z
UID:1022-1390759200-1390770000@koncertywrzeszowie.pl
SUMMARY:Dawid Kwiatkowski - klub Pod Palmą
DESCRIPTION:Dawid Kwiatkowski – odkrycie roku 2013. \nSwoją przygodę z muzyką zaczął dwa lata temu\, uczestnicząc w konkursie „Askana Łowi Talenty’” gdzie zajął pierwsze miejsce.\nOdniesiony sukces zainspirował go do kontynuowania muzycznej kariery. Dawid swoją popularność w internecie zaczął od prowadzenia bloga\, nagrywania coverów znanych utworów\, które umieszczał na portalu YouTube. Nagrania okazały się ogromnym sukcesem\, co potwierdzają setki tysięcy wyświetleń\, subskrybcji oraz pozytywnych komentarzy internautów. Od tego momentu Dawid zaczął skupiać wokół siebie dużą liczbę fanów\, którzy pokochali go za interesujący głos\, charakter\, wygląd i niespotykaną charyzmę. Publiczne wystąpienia Dawida gromadzą tysiące fanów\, którzy są w stanie przejechać dla niego całą Polskę. \n  \nKOMUNIKATY ORGANIZACYJNE : \n\nMŁODZIEŻ PONIŻEJ 18 ROKU ŻYCIA MUSI BYĆ W TOWARZYSTWIE PRAWNEGO OPIEKUNA LUB POSIADAĆ PISEMNĄ ZGODĘ NA UDZIAŁ W IMPREZIE\nNA IMPREZIE NIE BĘDZIE SPRZEDAWANY ALKOHOL\n\n 
URL:https://koncertywrzeszowie.pl/event/dawid-kwiatkowski-klub-pod-palma/
LOCATION:Pod Palmą\, Cicha 4a\, Rzeszów
CATEGORIES:Koncerty
ATTACH;FMTTYPE=image/jpeg:https://koncertywrzeszowie.pl/wp-content/uploads/2014/01/dawid-kwiatkowski-rzeszow-pod-palma-2014-01-26.jpg
END:VEVENT
END:VCALENDAR