BEGIN:VCALENDAR
VERSION:2.0
PRODID:-//Koncert Rzeszów. Zobacz kto zagra w Rzeszowie! - ECPv6.15.20//NONSGML v1.0//EN
CALSCALE:GREGORIAN
METHOD:PUBLISH
X-WR-CALNAME:Koncert Rzeszów. Zobacz kto zagra w Rzeszowie!
X-ORIGINAL-URL:https://koncertywrzeszowie.pl
X-WR-CALDESC:Wydarzenia dla Koncert Rzeszów. Zobacz kto zagra w Rzeszowie!
REFRESH-INTERVAL;VALUE=DURATION:PT1H
X-Robots-Tag:noindex
X-PUBLISHED-TTL:PT1H
BEGIN:VTIMEZONE
TZID:Europe/Warsaw
BEGIN:DAYLIGHT
TZOFFSETFROM:+0100
TZOFFSETTO:+0200
TZNAME:CEST
DTSTART:20190331T010000
END:DAYLIGHT
BEGIN:STANDARD
TZOFFSETFROM:+0200
TZOFFSETTO:+0100
TZNAME:CET
DTSTART:20191027T010000
END:STANDARD
BEGIN:DAYLIGHT
TZOFFSETFROM:+0100
TZOFFSETTO:+0200
TZNAME:CEST
DTSTART:20200329T010000
END:DAYLIGHT
BEGIN:STANDARD
TZOFFSETFROM:+0200
TZOFFSETTO:+0100
TZNAME:CET
DTSTART:20201025T010000
END:STANDARD
BEGIN:DAYLIGHT
TZOFFSETFROM:+0100
TZOFFSETTO:+0200
TZNAME:CEST
DTSTART:20210328T010000
END:DAYLIGHT
BEGIN:STANDARD
TZOFFSETFROM:+0200
TZOFFSETTO:+0100
TZNAME:CET
DTSTART:20211031T010000
END:STANDARD
END:VTIMEZONE
BEGIN:VEVENT
DTSTART;TZID=Europe/Warsaw:20200216T153000
DTEND;TZID=Europe/Warsaw:20200216T193000
DTSTAMP:20260419T155119
CREATED:20191215T164851Z
LAST-MODIFIED:20191215T164902Z
UID:7323-1581867000-1581881400@koncertywrzeszowie.pl
SUMMARY:Dawid Kwiatkowski DK 13 Tour
DESCRIPTION:13 TOUR to trasa koncertowa w 13 miastach\, promująca najnowszy\, piąty album Dawida Kwiatkowskiego „13 grzechów niczyich”. Po 2 świetnie przyjętych trasach akustycznych\, czas na powrót do korzeni 23-latka- klubowe wulkany energii i emocji! \n13 TOUR to najmocniejsza i najdłużej przygotowywana z tras wokalisty.  Rockowa\, energiczna\, łącząca nowoczesne\, elektroniczne brzmienie z mocnym\, gitarowym graniem. Artysta wraca z pełna siłą\, po zagraniu ponad 600 koncertów\, aby zagrać najlepszą trasę koncertową w swojej 7-letniej karierze. \nNajwiększe hity\, ostre aranże\, nowy album i premierowe utwory- to\, na co czekali wszyscy fani Artysty. Support oraz partnerzy zostaną ogłoszeni w najbliższym czasie. \nBilety na koncert\nSTANDARD: 69 zł\nMEET AND GREET*: 249 zł\n*M&G zawiera: bilet standard\, wcześniejsze wejście\, gift pack\, pamiątkowe zdjęcie na tle specjalnie przygotowanej scenografii \nWstęp na koncert 16+ za pisemną zgodą rodzica. Poniżej 16 lat\, wymagana obecność pełnoletniego opiekuna.
URL:https://koncertywrzeszowie.pl/event/dawid-kwiatkowski-dk-13-tour/
LOCATION:LUKR\, Kopisto 1\, Rzeszów
CATEGORIES:Koncerty,Lukr
ATTACH;FMTTYPE=image/jpeg:https://koncertywrzeszowie.pl/wp-content/uploads/2019/12/dawid-kwiatkowski-dk13tour.jpg
END:VEVENT
END:VCALENDAR