BEGIN:VCALENDAR
VERSION:2.0
PRODID:-//Koncert Rzeszów. Zobacz kto zagra w Rzeszowie! - ECPv6.15.20//NONSGML v1.0//EN
CALSCALE:GREGORIAN
METHOD:PUBLISH
X-WR-CALNAME:Koncert Rzeszów. Zobacz kto zagra w Rzeszowie!
X-ORIGINAL-URL:https://koncertywrzeszowie.pl
X-WR-CALDESC:Wydarzenia dla Koncert Rzeszów. Zobacz kto zagra w Rzeszowie!
REFRESH-INTERVAL;VALUE=DURATION:PT1H
X-Robots-Tag:noindex
X-PUBLISHED-TTL:PT1H
BEGIN:VTIMEZONE
TZID:Europe/Warsaw
BEGIN:DAYLIGHT
TZOFFSETFROM:+0100
TZOFFSETTO:+0200
TZNAME:CEST
DTSTART:20130331T010000
END:DAYLIGHT
BEGIN:STANDARD
TZOFFSETFROM:+0200
TZOFFSETTO:+0100
TZNAME:CET
DTSTART:20131027T010000
END:STANDARD
BEGIN:DAYLIGHT
TZOFFSETFROM:+0100
TZOFFSETTO:+0200
TZNAME:CEST
DTSTART:20140330T010000
END:DAYLIGHT
BEGIN:STANDARD
TZOFFSETFROM:+0200
TZOFFSETTO:+0100
TZNAME:CET
DTSTART:20141026T010000
END:STANDARD
BEGIN:DAYLIGHT
TZOFFSETFROM:+0100
TZOFFSETTO:+0200
TZNAME:CEST
DTSTART:20150329T010000
END:DAYLIGHT
BEGIN:STANDARD
TZOFFSETFROM:+0200
TZOFFSETTO:+0100
TZNAME:CET
DTSTART:20151025T010000
END:STANDARD
END:VTIMEZONE
BEGIN:VEVENT
DTSTART;TZID=Europe/Warsaw:20141010T190000
DTEND;TZID=Europe/Warsaw:20141010T190000
DTSTAMP:20260419T211101
CREATED:20140916T073301Z
LAST-MODIFIED:20140916T073301Z
UID:1719-1412967600-1412967600@koncertywrzeszowie.pl
SUMMARY:Corruption - Sharing The Devil Tour 2014 w Vinyl
DESCRIPTION:Sharing The Devil Tour 2014\nKlub VINYL\n10.10.2014r.\nZespoły: \n\nVirgin Snatch\nCorruption\nThermit\n\n11 września w trasę ruszają ojcowie polskiego stoner metalu z CORRUPTION.\nGościem specjalnym na 10 koncertach będzie thrash metalowa krakowska formacja VIRGIN SNATCH. \nOba zespoły będą promować swoje najnowsze płyty: CORRUPTION â znakomicie przyjmowaną w kraju i za granicą zarówno przez fanów jaki i recenzentów „Devil’s Share”\, a VIRGIN SNATCH â zbierającą doskonałe recenzje „We Serve No One”. \nWszystkie koncerty będzie otwierała ciesząca się co raz większą popularnością młoda thrashowa ekipa z THERMIT.\nNa koncertach będzie można zaopatrzyć się w płyty\, koszulki\, bluzy i inne gadżety wszystkich trzech zespołów!
URL:https://koncertywrzeszowie.pl/event/corruption-sharing-the-devil-tour-2014-vinyl/
LOCATION:Klub Vinyl\, ul. Piłsudskiego 31\, Rzeszów
CATEGORIES:Koncerty
ATTACH;FMTTYPE=image/jpeg:https://koncertywrzeszowie.pl/wp-content/uploads/2014/09/trasa-corruption-virgin-snatch-rzeszow-vinyl.jpg
END:VEVENT
END:VCALENDAR