BEGIN:VCALENDAR
VERSION:2.0
PRODID:-//Koncert Rzeszów. Zobacz kto zagra w Rzeszowie! - ECPv6.15.20//NONSGML v1.0//EN
CALSCALE:GREGORIAN
METHOD:PUBLISH
X-WR-CALNAME:Koncert Rzeszów. Zobacz kto zagra w Rzeszowie!
X-ORIGINAL-URL:https://koncertywrzeszowie.pl
X-WR-CALDESC:Wydarzenia dla Koncert Rzeszów. Zobacz kto zagra w Rzeszowie!
REFRESH-INTERVAL;VALUE=DURATION:PT1H
X-Robots-Tag:noindex
X-PUBLISHED-TTL:PT1H
BEGIN:VTIMEZONE
TZID:Europe/Warsaw
BEGIN:DAYLIGHT
TZOFFSETFROM:+0100
TZOFFSETTO:+0200
TZNAME:CEST
DTSTART:20180325T010000
END:DAYLIGHT
BEGIN:STANDARD
TZOFFSETFROM:+0200
TZOFFSETTO:+0100
TZNAME:CET
DTSTART:20181028T010000
END:STANDARD
BEGIN:DAYLIGHT
TZOFFSETFROM:+0100
TZOFFSETTO:+0200
TZNAME:CEST
DTSTART:20190331T010000
END:DAYLIGHT
BEGIN:STANDARD
TZOFFSETFROM:+0200
TZOFFSETTO:+0100
TZNAME:CET
DTSTART:20191027T010000
END:STANDARD
BEGIN:DAYLIGHT
TZOFFSETFROM:+0100
TZOFFSETTO:+0200
TZNAME:CEST
DTSTART:20200329T010000
END:DAYLIGHT
BEGIN:STANDARD
TZOFFSETFROM:+0200
TZOFFSETTO:+0100
TZNAME:CET
DTSTART:20201025T010000
END:STANDARD
END:VTIMEZONE
BEGIN:VEVENT
DTSTART;TZID=Europe/Warsaw:20190307T200000
DTEND;TZID=Europe/Warsaw:20190307T230000
DTSTAMP:20260423T103554
CREATED:20190130T185445Z
LAST-MODIFIED:20190130T185445Z
UID:5854-1551988800-1551999600@koncertywrzeszowie.pl
SUMMARY:Clock Machine w klubie Vinyl
DESCRIPTION:Clock Machine wraca do Rzeszowa z nowym albumem!\nWszystko co wiemy o przyszłości\, to tylko chłodne prognozy. To w nich tkwią wszystkie nasze nadzieje i obawy. Mogą zwiastować wieczne słońce i szczęście\, albo fatum i niekończący się\, wściekły tajfun\, niszczący wszystko co spotka na swej drodze. Zaufać im\, czy może przejść obojętnie obok? A co\, jeśli mówią prawdę o przyszłości? Co jeśli jest już za późno i na nic nie mamy wpływu? \nClock Machine wraca z albumem\, który zadaje pytania i dogłębnie analizuje różne oblicza relacji międzyludzkich. Z piosenkami o próbach odnalezienia wspólnego języka z drugim człowiekiem. O słodkich sukcesach i gorzkich porażkach.\nPremiera płyty „Prognozy” już w marcu. \nClock Machine – Prognozy
URL:https://koncertywrzeszowie.pl/event/clock-machine-w-klubie-vinyl/
LOCATION:Klub Vinyl\, ul. Piłsudskiego 31\, Rzeszów
CATEGORIES:Klub Vinyl,Koncerty
ATTACH;FMTTYPE=image/jpeg:https://koncertywrzeszowie.pl/wp-content/uploads/2019/01/clock_machine.jpg
END:VEVENT
END:VCALENDAR