BEGIN:VCALENDAR
VERSION:2.0
PRODID:-//Koncert Rzeszów. Zobacz kto zagra w Rzeszowie! - ECPv6.15.20//NONSGML v1.0//EN
CALSCALE:GREGORIAN
METHOD:PUBLISH
X-WR-CALNAME:Koncert Rzeszów. Zobacz kto zagra w Rzeszowie!
X-ORIGINAL-URL:https://koncertywrzeszowie.pl
X-WR-CALDESC:Wydarzenia dla Koncert Rzeszów. Zobacz kto zagra w Rzeszowie!
REFRESH-INTERVAL;VALUE=DURATION:PT1H
X-Robots-Tag:noindex
X-PUBLISHED-TTL:PT1H
BEGIN:VTIMEZONE
TZID:Europe/Warsaw
BEGIN:DAYLIGHT
TZOFFSETFROM:+0100
TZOFFSETTO:+0200
TZNAME:CEST
DTSTART:20160327T010000
END:DAYLIGHT
BEGIN:STANDARD
TZOFFSETFROM:+0200
TZOFFSETTO:+0100
TZNAME:CET
DTSTART:20161030T010000
END:STANDARD
BEGIN:DAYLIGHT
TZOFFSETFROM:+0100
TZOFFSETTO:+0200
TZNAME:CEST
DTSTART:20170326T010000
END:DAYLIGHT
BEGIN:STANDARD
TZOFFSETFROM:+0200
TZOFFSETTO:+0100
TZNAME:CET
DTSTART:20171029T010000
END:STANDARD
BEGIN:DAYLIGHT
TZOFFSETFROM:+0100
TZOFFSETTO:+0200
TZNAME:CEST
DTSTART:20180325T010000
END:DAYLIGHT
BEGIN:STANDARD
TZOFFSETFROM:+0200
TZOFFSETTO:+0100
TZNAME:CET
DTSTART:20181028T010000
END:STANDARD
END:VTIMEZONE
BEGIN:VEVENT
DTSTART;TZID=Europe/Warsaw:20170304T190000
DTEND;TZID=Europe/Warsaw:20170304T190000
DTSTAMP:20260419T223856
CREATED:20170220T110524Z
LAST-MODIFIED:20180217T192754Z
UID:3574-1488654000-1488654000@koncertywrzeszowie.pl
SUMMARY:Ceti Snakes Of Eden
DESCRIPTION:CETI – SNAKES ARE BACK IN TOWN 2017 Trasa promocyjna albumu ” Snakes Of Eden” ( Metal Mind Productions) \nKoncert promujący najnowszy 16ty w historii zespołu albumu grupy. \nCETI – niekwestionowana ikona polskiego metalu pod wodzą Grzegorza Kupczyka. Pełna energii\, szybkości i przebojowości muzyka z rock’n’rollowym kopniakiem. CETI to już 27 lat niezłej historii i muzy -www.ceti-gk.com \nNajnowszy album „Snakes of Eden” to pod względem muzycznym w dużej mierze kontynuacja albumu „Brutus Syndrome” (MMP 2014) z twardymi mocnymi gitarami\, agresywną sekcją rytmiczną i chwytliwymi melodiami. Materiał znajdujący się na płycie składa hołd klimatowi lat 80 tych łącząc ich znakomite osiągnięcia z bardzo nowoczesnym spojrzeniem na idea Hardrocka dziś. \nCeti\nNa płycie usłyszeć można również swoisty przegląd wszystkich płyt CETI z ich już ponad 27 letniej działalności\, ujawniający dorobek twórczy tej uznanej i oryginalnej w każdym calu formacji. Za kompozycje odpowiadają Tomasz Targosz ( basista grupy ) oraz Grzegorz Kupczyk ( wokalista) . Teksty są wyłącznym dziełem Tomasza Targosza. Autorem okładki jest grafik Piotr Szafraniec pracujący z zespołem również przy poprzednim albumie. Idea okładki tak jak zawarte na albumie utwory nawiązują do filozofii ludzkiej egzystencji nie wyłącznie w kontekście religijnym czy biblijnym\, jak by na wskazywała okładka \, ale ogólnie i szerzej ujętej kondycji współczesnego człowieka\, która podjęta została na płycie ” Brutus Syndrome” . To filozofia życia\, ale przede wszystkim jego radości i smutki a nade wszystko to prawdziwy Rock And Roll.
URL:https://koncertywrzeszowie.pl/event/ceti-snakes-of-eden/
CATEGORIES:Klub Vinyl,Koncerty
ATTACH;FMTTYPE=image/jpeg:https://koncertywrzeszowie.pl/wp-content/uploads/2017/02/Ceti-snakes_of_eden-m.jpg
END:VEVENT
END:VCALENDAR