BEGIN:VCALENDAR
VERSION:2.0
PRODID:-//Koncert Rzeszów. Zobacz kto zagra w Rzeszowie! - ECPv6.15.20//NONSGML v1.0//EN
CALSCALE:GREGORIAN
METHOD:PUBLISH
X-WR-CALNAME:Koncert Rzeszów. Zobacz kto zagra w Rzeszowie!
X-ORIGINAL-URL:https://koncertywrzeszowie.pl
X-WR-CALDESC:Wydarzenia dla Koncert Rzeszów. Zobacz kto zagra w Rzeszowie!
REFRESH-INTERVAL;VALUE=DURATION:PT1H
X-Robots-Tag:noindex
X-PUBLISHED-TTL:PT1H
BEGIN:VTIMEZONE
TZID:Europe/Warsaw
BEGIN:DAYLIGHT
TZOFFSETFROM:+0100
TZOFFSETTO:+0200
TZNAME:CEST
DTSTART:20250330T010000
END:DAYLIGHT
BEGIN:STANDARD
TZOFFSETFROM:+0200
TZOFFSETTO:+0100
TZNAME:CET
DTSTART:20251026T010000
END:STANDARD
BEGIN:DAYLIGHT
TZOFFSETFROM:+0100
TZOFFSETTO:+0200
TZNAME:CEST
DTSTART:20260329T010000
END:DAYLIGHT
BEGIN:STANDARD
TZOFFSETFROM:+0200
TZOFFSETTO:+0100
TZNAME:CET
DTSTART:20261025T010000
END:STANDARD
BEGIN:DAYLIGHT
TZOFFSETFROM:+0100
TZOFFSETTO:+0200
TZNAME:CEST
DTSTART:20270328T010000
END:DAYLIGHT
BEGIN:STANDARD
TZOFFSETFROM:+0200
TZOFFSETTO:+0100
TZNAME:CET
DTSTART:20271031T010000
END:STANDARD
END:VTIMEZONE
BEGIN:VEVENT
DTSTART;TZID=Europe/Warsaw:20260424T200000
DTEND;TZID=Europe/Warsaw:20260424T200000
DTSTAMP:20260421T104644
CREATED:20260414T190734Z
LAST-MODIFIED:20260414T191823Z
UID:13406-1777060800-1777060800@koncertywrzeszowie.pl
SUMMARY:Blokowisko + Poczta Polska || koncert w Rzeszowie (Objazd Tour 2026)
DESCRIPTION:Poczta Polska rusza w swoją pierwszą trasę koncertową „Objazd Tour 2026″. W Rzeszowie zagrają razem z zespołem Blokowisko – zapowiada się wieczór pełen mocnych brzmień i wyjątkowego klimatu. \n \nPoczta Polska\nTo duet tworzący klimatyczną\, elektroniczno-gitarową muzykę inspirowaną snami\, architekturą i filmem. Zadebiutowali w 2025 roku i szybko zdobyli popularność – ich utwory trafiały na listy przebojów i do radia. Łączą muzykę z wizualną sztuką i filmem.\nInterdyscyplinarny projekt Bartka Szabata i Szymona Kaziroda zadebiutował w 2025 roku singlem „Pilot”\,\nktóry błyskawicznie dotarł na pierwsze miejsce listy przebojów radia Afera. \nBlokowisko\nZespół z Warszawy i Krakowa grający mieszankę post-punku\, rapu i gitarowego grania. Powstali w 2018 roku. Mają na koncie album „Płonie” oraz występy na dużych festiwalach\, m.in. OFF Festival. Ich muzyka często komentuje współczesną rzeczywistość.\nObecnie funkcjonuje już jako kwartet w składzie: Maciej Jurga\, Kacper Zieliński\, Cezary Zieliński\, oraz Maciej Dydek.\nW ostatnich 2 latach zespół przypomniał się publiczności głośnymi utworami „Pozarazie” oraz „Produkty”\,\nbędącymi komentarzem do postpandemicznej i ultrakapitalistycznej rzeczywistości. \n  \nInformacje organizacyjne: Otwarcie bramek: 19:30\, koncert w formule stojącej\nDostępność: przestrzeń dostępna architektonicznie\, winda po lewej stronie drzwi wejściowych\, toaleta przystosowana do potrzeb osób z niepełnosprawnościami. \nBilety\nBilety: sprzedawane są przez organizatora za pośrednictwem serwisu Stage24: 43\,90 zł
URL:https://koncertywrzeszowie.pl/event/blokowisko-poczta-polska-koncert-w-rzeszowie-objazd-tour-2026/
LOCATION:Rzeszowskie Piwnice\, Rynek 26\, Rzeszów\, 35-062\, PL
CATEGORIES:Rzeszowskie Piwnice
ATTACH;FMTTYPE=image/jpeg:https://koncertywrzeszowie.pl/wp-content/uploads/2026/04/blokowisko-poczta-polska-rzeszowskie-piwnice-2026.jpeg
END:VEVENT
END:VCALENDAR