BEGIN:VCALENDAR
VERSION:2.0
PRODID:-//Koncert Rzeszów. Zobacz kto zagra w Rzeszowie! - ECPv6.15.20//NONSGML v1.0//EN
CALSCALE:GREGORIAN
METHOD:PUBLISH
X-WR-CALNAME:Koncert Rzeszów. Zobacz kto zagra w Rzeszowie!
X-ORIGINAL-URL:https://koncertywrzeszowie.pl
X-WR-CALDESC:Wydarzenia dla Koncert Rzeszów. Zobacz kto zagra w Rzeszowie!
REFRESH-INTERVAL;VALUE=DURATION:PT1H
X-Robots-Tag:noindex
X-PUBLISHED-TTL:PT1H
BEGIN:VTIMEZONE
TZID:Europe/Warsaw
BEGIN:DAYLIGHT
TZOFFSETFROM:+0100
TZOFFSETTO:+0200
TZNAME:CEST
DTSTART:20180325T010000
END:DAYLIGHT
BEGIN:STANDARD
TZOFFSETFROM:+0200
TZOFFSETTO:+0100
TZNAME:CET
DTSTART:20181028T010000
END:STANDARD
BEGIN:DAYLIGHT
TZOFFSETFROM:+0100
TZOFFSETTO:+0200
TZNAME:CEST
DTSTART:20190331T010000
END:DAYLIGHT
BEGIN:STANDARD
TZOFFSETFROM:+0200
TZOFFSETTO:+0100
TZNAME:CET
DTSTART:20191027T010000
END:STANDARD
BEGIN:DAYLIGHT
TZOFFSETFROM:+0100
TZOFFSETTO:+0200
TZNAME:CEST
DTSTART:20200329T010000
END:DAYLIGHT
BEGIN:STANDARD
TZOFFSETFROM:+0200
TZOFFSETTO:+0100
TZNAME:CET
DTSTART:20201025T010000
END:STANDARD
END:VTIMEZONE
BEGIN:VEVENT
DTSTART;TZID=Europe/Warsaw:20190928T180000
DTEND;TZID=Europe/Warsaw:20190929T050000
DTSTAMP:20260419T145806
CREATED:20190828T165644Z
LAST-MODIFIED:20190828T165644Z
UID:6532-1569693600-1569733200@koncertywrzeszowie.pl
SUMMARY:Biegun Zachodni + Get Break + RoseMerry w Graciarni u Plastyków
DESCRIPTION:Biegun Zachodni\nZespół Biegun Zachodni swoją nazwą nawiązuje do muzyki klasycznych zachodnich zespołów rockowych lat 70′.\nWszyscy członkowie są fanami takich kapel jak Led Zeppelin\, Black Sabbath czy Pink Floyd. W naszych utworach da się usłyszeć nawiązania do bluesa\, metalu a nawet orientu. \nOpieramy się na solidnej sekcji rytmicznej oraz mocnych gitarowych riffach dopełnionych charyzmatycznym wokalem. Jeśli pozwala na to czas i miejsce – nie stronimy również od gitar akustycznych\, instrumentów klawiszowych\, harmonijek a nawet banjo. \nZarówno nazwa jak i skład zespołu wyklarowały się początkiem 2013 roku. Od tamtej pory zdążyliśmy nagrać debiutancki album o tytule „Pamiętaj kim byłeś”\, który został wydany własnymi siłami końcem 2017 roku.Zagraliśmy wiele solidnych koncertów w Polsce (m.in. z Turbo\, Cree\, Dżem\, TSA\, Harlem\, Wanda i Banda Kobranocka i wieloma innymi) \n \n  \nKilka ważniejszych osiągnięć w historii zespołu…\nNagroda Publiczności – Triolkowe Konfrontacje II 2015 Rzeszów\nI Nagroda Jury – Triolkowe Konfrontacje II 2015 Rzeszów\nNagroda Grand Prix Jury – Rock Session III 2015 Krosno\nNagroda Jury – Rockowa Noc IX 2015 Rzeszów\nI miejsce i nagroda Jury – „Garaż” VI 2016 Sanok\nI miejsce – Rock na Plaży Paprocany 2017\nPółfinał „Antyfest Antyradia 2018”\nPółfinał „Antyfest Antyradia 2019”\nIII miejsce – „Wielki ogień” Ostrowiec Świętokrzyski. VII 2019\nNajlepszy gitarzysta Festiwalu Blues Nad Bobrem – Dla Kamil Czupryś. Bolesławiec. VII 2019 \nGet Break\nZespół rockowy GET BREAK rozpoczął działalność w czerwcu 1996 r. jako rockowy kwartet z bazą muzyczną w Wojskowym Ośrodku Kultury w Jarosławiu. W 1998 r. robiąc próby w STUDIO MYJNIA\, zespół zarejestrował materiał autorski w postaci płyty 13 KAMIENI\, a w latach 1999-2006 nagrał kilka materiałów promocyjnych w postaci nieoficjalnych płyt z muzyką jazz-rockową i alternatywną\, a swoją działalność przeniósł do Miejskiego Ośrodka Kultury w Jarosławiu. W 2007 roku po kilku zmianach personalnych powrócił muzycznie i stylistycznie do rocka i hard-rocka. \nGrupa nagrała płyty WENTYLATOR (2007 r.) i BAROMETR (2009 r.).\nW 2011 r. zespół wydał płytę ILUMINACJE.\nW 2013 roku zespół GET BREAK występuje na żywo w Sali Koncertowej Polskiego Radia Rzeszów. Z zapisu tej audycji powstaje płyta live: „Koncert w Radio Rzeszów”.\nRok 2015 to premiera płyty pod tytułem LOCO MOTYWY.\nW grudniu 2017 roku zespół wydaje płytę pod tytułem BORYGOH.\n21 września 2018r. zespół GET BREAK występuje na żywo w studio koncertowym Polskiego Radia Rzeszów. Jest to ostatni  występ z Jarkiem Płocicą na basie. Następuje zmiana w składzie i nowym basistą zostaje Norbert Purs. \nGET BREAK konsekwentnie reprezentuje własną\, klasycznie – alternatywną odmianę\nhard-rocka\, proponując na koncertach głównie materiał autorski. \nRoseMerry\nZespół powstały w czerwcu 2018r. z inicjatywy czworga przyjaciół – muzyków. Led Zeppelinowskie brzmienia i rytmy z kobiecym wokalem i charakterystycznymi tekstami. \nRoseMerry – osiągnięcia:\n– zdobywcy III miejsca na przeglądzie „Kill me with the music”w Rzeszowie\n– laureaci i zdobywcy wyróżnienia na Festiwalu Wschody w Lublinie
URL:https://koncertywrzeszowie.pl/event/biegun-zachodni-get-break-rosemerry-w-graciarni-u-plastykow/
LOCATION:Graciarnia u Plastyków\, Rynek 10\, Rzeszów
CATEGORIES:Graciarnia u Plastyków,Koncerty
ATTACH;FMTTYPE=image/jpeg:https://koncertywrzeszowie.pl/wp-content/uploads/2019/08/biegun-zachodni-koncert-graciarnia-u-plastykow.jpg
END:VEVENT
END:VCALENDAR