BEGIN:VCALENDAR
VERSION:2.0
PRODID:-//Koncert Rzeszów. Zobacz kto zagra w Rzeszowie! - ECPv6.15.20//NONSGML v1.0//EN
CALSCALE:GREGORIAN
METHOD:PUBLISH
X-WR-CALNAME:Koncert Rzeszów. Zobacz kto zagra w Rzeszowie!
X-ORIGINAL-URL:https://koncertywrzeszowie.pl
X-WR-CALDESC:Wydarzenia dla Koncert Rzeszów. Zobacz kto zagra w Rzeszowie!
REFRESH-INTERVAL;VALUE=DURATION:PT1H
X-Robots-Tag:noindex
X-PUBLISHED-TTL:PT1H
BEGIN:VTIMEZONE
TZID:Europe/Warsaw
BEGIN:DAYLIGHT
TZOFFSETFROM:+0100
TZOFFSETTO:+0200
TZNAME:CEST
DTSTART:20150329T010000
END:DAYLIGHT
BEGIN:STANDARD
TZOFFSETFROM:+0200
TZOFFSETTO:+0100
TZNAME:CET
DTSTART:20151025T010000
END:STANDARD
BEGIN:DAYLIGHT
TZOFFSETFROM:+0100
TZOFFSETTO:+0200
TZNAME:CEST
DTSTART:20160327T010000
END:DAYLIGHT
BEGIN:STANDARD
TZOFFSETFROM:+0200
TZOFFSETTO:+0100
TZNAME:CET
DTSTART:20161030T010000
END:STANDARD
BEGIN:DAYLIGHT
TZOFFSETFROM:+0100
TZOFFSETTO:+0200
TZNAME:CEST
DTSTART:20170326T010000
END:DAYLIGHT
BEGIN:STANDARD
TZOFFSETFROM:+0200
TZOFFSETTO:+0100
TZNAME:CET
DTSTART:20171029T010000
END:STANDARD
END:VTIMEZONE
BEGIN:VEVENT
DTSTART;TZID=Europe/Warsaw:20161014T210000
DTEND;TZID=Europe/Warsaw:20161014T210000
DTSTAMP:20260424T163205
CREATED:20160916T090931Z
LAST-MODIFIED:20160916T123653Z
UID:3205-1476478800-1476478800@koncertywrzeszowie.pl
SUMMARY:Beata i Bajm zagra na 5 urodzinach Millenium Hall
DESCRIPTION:  \nKto nie zna hitów takich jak „Józek\, nie daruję Ci tej nocy”\, „Biała armia” czy „Płynie w nas gorąca krew”? \nW pierwszy dzień urodzin Millenium Hall na muzycznej scenie klubu LUKR wystąpi Beata Kozidrak wraz z zespołem Bajm. Podczas specjalnego koncertu wykonają nie tylko swoje największe przeboje\, ale także materiał z nowej solowej płyty Beaty – „B3”\, której premiera przewidziana jest na 16 września br. Gospodarzem wieczoru będzie prezenter telewizyjny znany z programów takich jak „Kocham Cię\, Polsko” i „The Voice of Poland” Tomasz Kammel. \nMillenium Hall dla swoich Klientów przygotowało wyjątkową możliwość zdobycia podwójnych\, ekskluzywnych zaproszeń na ten wyjątkowy koncert. Aby je otrzymać należy w dniach 5 września do 14 października dokonać zakupów w punktach na terenie Centrum o łącznej kwocie min. 2000 zł. Warto dodać\, że liczba biletów jest ograniczona\, więc kto pierwszy\, ten lepszy. Zaproszenia wydawane będą od dnia 7 września2016. \nBilety za zakupy w Millenium Hall\, szczegóły w na stronie wydarzenia. \nBajm – „Szklanka wody„\n \n 
URL:https://koncertywrzeszowie.pl/event/beata-bajm-zagra-5-urodzinach-millenium-hall/
LOCATION:LUKR\, Kopisto 1\, Rzeszów
CATEGORIES:Koncerty
ATTACH;FMTTYPE=image/jpeg:https://koncertywrzeszowie.pl/wp-content/uploads/2016/09/beata_i_bajm-koncert_w_klubie_lukr.jpg
END:VEVENT
END:VCALENDAR