BEGIN:VCALENDAR
VERSION:2.0
PRODID:-//Koncert Rzeszów. Zobacz kto zagra w Rzeszowie! - ECPv6.15.20//NONSGML v1.0//EN
CALSCALE:GREGORIAN
METHOD:PUBLISH
X-WR-CALNAME:Koncert Rzeszów. Zobacz kto zagra w Rzeszowie!
X-ORIGINAL-URL:https://koncertywrzeszowie.pl
X-WR-CALDESC:Wydarzenia dla Koncert Rzeszów. Zobacz kto zagra w Rzeszowie!
REFRESH-INTERVAL;VALUE=DURATION:PT1H
X-Robots-Tag:noindex
X-PUBLISHED-TTL:PT1H
BEGIN:VTIMEZONE
TZID:Europe/Paris
BEGIN:DAYLIGHT
TZOFFSETFROM:+0100
TZOFFSETTO:+0200
TZNAME:CEST
DTSTART:20220327T010000
END:DAYLIGHT
BEGIN:STANDARD
TZOFFSETFROM:+0200
TZOFFSETTO:+0100
TZNAME:CET
DTSTART:20221030T010000
END:STANDARD
BEGIN:DAYLIGHT
TZOFFSETFROM:+0100
TZOFFSETTO:+0200
TZNAME:CEST
DTSTART:20230326T010000
END:DAYLIGHT
BEGIN:STANDARD
TZOFFSETFROM:+0200
TZOFFSETTO:+0100
TZNAME:CET
DTSTART:20231029T010000
END:STANDARD
BEGIN:DAYLIGHT
TZOFFSETFROM:+0100
TZOFFSETTO:+0200
TZNAME:CEST
DTSTART:20240331T010000
END:DAYLIGHT
BEGIN:STANDARD
TZOFFSETFROM:+0200
TZOFFSETTO:+0100
TZNAME:CET
DTSTART:20241027T010000
END:STANDARD
END:VTIMEZONE
BEGIN:VEVENT
DTSTART;TZID=Europe/Paris:20230318T180000
DTEND;TZID=Europe/Paris:20230318T180000
DTSTAMP:20260424T220619
CREATED:20230117T095240Z
LAST-MODIFIED:20230209T193319Z
UID:9254-1679162400-1679162400@koncertywrzeszowie.pl
SUMMARY:Art Festival | Ralph Kaminski\, Luxtorpeda\, Karaś/Rogucki\, Anka
DESCRIPTION:  \n„Art Festival” to kompleksowy projekt\, organizowany po raz pierwszy w Centrum Wystawienniczo Kongresowym G2A Arena.\nIdea projektu streszcza się w samym jego tytule. Celem „Art Festiwal” jest stworzenie przestrzeni dla wszystkich miłośników muzyki popularnej\, popowej\, jak również mocnych brzmień: rocka i metalu. \n🔔„Art Festival” – święto sztuki\, muzyki\, zabawy\, fiesty\nW pierwszej edycji festiwalu na scenie głównej zaprezentują się gwiazdy muzyczne takie jak: \n\nRalph Kaminski\,\nLuxtorpeda\,\nKaraś/Rogucki\,\nAnka.\n\n  \nRalph Kaminski\nto wokalista\, autor tekstów\, kompozytor\, producent muzyczny oraz reżyser teledysków. Tworzy muzykę określaną jako pop alternatywny. W tym roku otrzymał prestiżowy Paszport „Polityki”\, będący symbolicznym stemplem jakości twórczości artysty. \nLuxtorpeda\nPolska grupa wykonująca szeroko pojętą muzykę rockową. Powstała w 2010 roku z inicjatywy gitarzysty i wokalisty Roberta Friedricha\, znanego z zespołów: Acid Drinkers\, Arka Noego\, Kazik na Żywo. \nKARAŚ/ROGUCKI\nto duet\, który pojawił się na polskim rynku po ogłoszeniu zawieszenia działalności zespołów Coma i The Dumplings. Kuba Karaś odpowiada w tym tandemie za produkcję\, Piotr Rogucki zajmuje się tekstami\, a obaj dopieszczają muzykę. Z pozoru karkołomne połączenie dwóch odmiennych wrażliwości i metryk dało harmonijny efekt w postaci materiału\, który z początkiem 2020 roku ujrzał światło dzienne w formie albumu. \nAnka\nAnka – za tą krótką nazwą stoi trójka artystów: \n\nAnia Świątczak – doświadczona wokalistka\, którą fani muzyki kojarzą przede wszystkim z wieloletnią współpracą z zespołem Ich Troje.\nPiotrek Aleksandrowicz – gitarzysta o ogromnym dorobku artystycznym\, współpracujący od lat z gwiazdami polskiej sceny muzycznej\, zarówno tej popularnej\, jak i alternatywnej czy jazzowej.\nRobert Kurpisz – manager i muzyk\, obecny na polskim rynku od ponad dwóch dekad\, w ostatnim czasie również aktywny jako producent muzyczny.\n\nBilety na festiwal\nBilety dostępne na stronie: https://sklep.ebilet.pl/337769972052787202
URL:https://koncertywrzeszowie.pl/event/art-festival-ralph-kaminski-luxtorpeda-karas-rogucki-anka/
LOCATION:G2A Arena\, Jasionka 953\, Jasionka\, 36-002\, PL
CATEGORIES:G2Arena
ATTACH;FMTTYPE=image/jpeg:https://koncertywrzeszowie.pl/wp-content/uploads/2023/01/9254_image_325579236_1314464492681066_6588640338911244940_n.jpg
END:VEVENT
END:VCALENDAR