BEGIN:VCALENDAR
VERSION:2.0
PRODID:-//Koncert Rzeszów. Zobacz kto zagra w Rzeszowie! - ECPv6.15.20//NONSGML v1.0//EN
CALSCALE:GREGORIAN
METHOD:PUBLISH
X-WR-CALNAME:Koncert Rzeszów. Zobacz kto zagra w Rzeszowie!
X-ORIGINAL-URL:https://koncertywrzeszowie.pl
X-WR-CALDESC:Wydarzenia dla Koncert Rzeszów. Zobacz kto zagra w Rzeszowie!
REFRESH-INTERVAL;VALUE=DURATION:PT1H
X-Robots-Tag:noindex
X-PUBLISHED-TTL:PT1H
BEGIN:VTIMEZONE
TZID:Europe/Warsaw
BEGIN:DAYLIGHT
TZOFFSETFROM:+0100
TZOFFSETTO:+0200
TZNAME:CEST
DTSTART:20170326T010000
END:DAYLIGHT
BEGIN:STANDARD
TZOFFSETFROM:+0200
TZOFFSETTO:+0100
TZNAME:CET
DTSTART:20171029T010000
END:STANDARD
BEGIN:DAYLIGHT
TZOFFSETFROM:+0100
TZOFFSETTO:+0200
TZNAME:CEST
DTSTART:20180325T010000
END:DAYLIGHT
BEGIN:STANDARD
TZOFFSETFROM:+0200
TZOFFSETTO:+0100
TZNAME:CET
DTSTART:20181028T010000
END:STANDARD
BEGIN:DAYLIGHT
TZOFFSETFROM:+0100
TZOFFSETTO:+0200
TZNAME:CEST
DTSTART:20190331T010000
END:DAYLIGHT
BEGIN:STANDARD
TZOFFSETFROM:+0200
TZOFFSETTO:+0100
TZNAME:CET
DTSTART:20191027T010000
END:STANDARD
END:VTIMEZONE
BEGIN:VEVENT
DTSTART;TZID=Europe/Warsaw:20180219T190000
DTEND;TZID=Europe/Warsaw:20180219T210000
DTSTAMP:20260422T105105
CREATED:20180209T205449Z
LAST-MODIFIED:20180209T205449Z
UID:4520-1519066800-1519074000@koncertywrzeszowie.pl
SUMMARY:Anna Maria Jopek już w lutym w Rzeszowie
DESCRIPTION:Anna Maria Jopek „Najciszej”\nMuzyka do przytulenia – takie założenie artystyczne przyjęła Anna Maria Jopek na lutowe\, około walentynkowe grania. O miłości\, akustycznie\, w doborowym towarzystwie… \nPo koncertach w wielkich salach\, w których zagrała z Gonzalo Rubalcabą\, czekając na swój nowy projekt z Branfordem Marsalisem\, Anna Maria Jopek wraca do mniejszych miejsc z prawdziwą kameralistyką. Zaprasza AMJ: Czekanie na wiosnę strasznie się dłuży. Chcemy być dla Państwa odrobiną ciepła i światła w tym czasie\, stąd pomysł grania cichutko\, ale bardzo energetycznie. Potrzebuję też pewnej dawki piękna i harmonii w tych burych miesiącach\, dlatego z radością wykonamy bossanovy – w najlepszej z możliwych konfiguracji ludzkich do takiego grania. \nWystąpią:\nKuba Stankiewicz – sama wrażliwość pianistyki\nMitchell Long – gitarzysta\, którego przedstawiła mi Melody Gardot w Lizbonie\, jest jej współpracownikiem\, diabelnie muzykalnym\, wszechstronnym i uroczym\nPedro Nazaruk – multiinstrumentalista i mój kompan wokalny\nRobert Kubiszyn – wiadomo… tym razem tylko na kontrabasie\nPaweł Dobrowolski – którego poprosiłam o całkowite rozbrojenie perkusyjne. \nZałożenie? Gramy energią\, nie wolumenem\, a kolorów\, barw\, środków wyrazu szukamy nie w gadżetach\, a w sobie samych. Chciałabym\, żeby było prosto\, pięknie i najprawdziwiej. Czy się uda? Zapraszamy. Sprawdzimy to razem. \n  \nO artystce\nAnna Maria Jopek – wokalistka\, songwriterka\, improwizatorka\, wizjonerka\, pasjonatka. Absolwentka Uniwersytetu Muzycznego im. Fryderyka Chopina w Warszawa w klasie fortepianu. Studiowała również filozofię na Uniwersytecie Warszawskim. \nŚpiewu uczyła się prywatnie u legendarnej prof. Darii Iwińskiej (wcześniej nauczycielki ojca AMJ\, Stanisława Jopka\, który też był śpiewakiem). Jako pianistka debiutowała mając zaledwie 12 w cyklu koncertów dla dzieci w Filharmonii Narodowej w Warszawie. Natomiast jako wokalistka debiutowała na Festiwalu Piosenki w Białorusi „Słowański Bazar”\, gdzie otrzymała osobistą nagrodę Michela Legranda (przewodniczącego jury festiwalu). Nagrywa i koncertuje na całym świecie z najważniejszymi postaciami naszych czasów. W Polsce miała zaszczyt śpiewać z Markiem Grechutą\, Jeremim Przyborą czy Wojciechem Młynarskim. Na światowych scenach z takimi artystami jak m.in. Pat Metheny\, Youssu’n Dour\, Bobby McFerrin\, Ivan Linz\, Branford Marsalis\, Nigel Kennedy\, Richard Bona\, Oscar Castro-Neves\, Makoto Ozone\, Noa czy Gonzalo Rubalcaba. \nW 2017 w noworocznym koncercie telewizyjnym spontanicznie wystąpiła też w duecie ze Stingiem. Śpiewała na najbardziej prestiżowych scenach świata\, takich jak: Carnegie Hall\, Hollywood Bowl\, Royal Festival Hall\, Opera w Tokio i Tel Awiwie\, Blue Note Tokyo w Hamer Hall w Melbourne. Nagrywała w studiach Real World u Petera Gabriela\, Abbey Road w Londynie i Power Station w Nowym Jorku. \nZdobyła wszystkie możliwe prestiżowe nagrody i wyróżnienia\, włącznie z Krzyżem Kawalerskim Orderu Odrodzenia Polski przyznanym przez prezydenta Bronisława Komorowskiego za promowanie polskiej sztuki na świecie. Od pięciu lat eksperymentuje z formami scenicznymi. Wystąpiła w spektaklu „Czas Kobiety” w reż. Leszka Mądzika\, dla którego współkomponowała muzykę oraz współpracowała z Teatrem Pieśni Kozła.\nOstatni album AMJ z Gonzalo Rublcabą „Minione” uzyskał status podwójnej platyny.
URL:https://koncertywrzeszowie.pl/event/anna-maria-jopek-juz-w-lutym-w-rzeszowie/
CATEGORIES:Filharmonia Podkarpacka,Koncerty
ATTACH;FMTTYPE=image/jpeg:https://koncertywrzeszowie.pl/wp-content/uploads/2018/02/anna_maria_jopek-koncert-rzeszow-filharmonia-2018_02_19.jpg
END:VEVENT
END:VCALENDAR