BEGIN:VCALENDAR
VERSION:2.0
PRODID:-//Koncert Rzeszów. Zobacz kto zagra w Rzeszowie! - ECPv6.15.20//NONSGML v1.0//EN
CALSCALE:GREGORIAN
METHOD:PUBLISH
X-WR-CALNAME:Koncert Rzeszów. Zobacz kto zagra w Rzeszowie!
X-ORIGINAL-URL:https://koncertywrzeszowie.pl
X-WR-CALDESC:Wydarzenia dla Koncert Rzeszów. Zobacz kto zagra w Rzeszowie!
REFRESH-INTERVAL;VALUE=DURATION:PT1H
X-Robots-Tag:noindex
X-PUBLISHED-TTL:PT1H
BEGIN:VTIMEZONE
TZID:Europe/Warsaw
BEGIN:DAYLIGHT
TZOFFSETFROM:+0100
TZOFFSETTO:+0200
TZNAME:CEST
DTSTART:20180325T010000
END:DAYLIGHT
BEGIN:STANDARD
TZOFFSETFROM:+0200
TZOFFSETTO:+0100
TZNAME:CET
DTSTART:20181028T010000
END:STANDARD
BEGIN:DAYLIGHT
TZOFFSETFROM:+0100
TZOFFSETTO:+0200
TZNAME:CEST
DTSTART:20190331T010000
END:DAYLIGHT
BEGIN:STANDARD
TZOFFSETFROM:+0200
TZOFFSETTO:+0100
TZNAME:CET
DTSTART:20191027T010000
END:STANDARD
BEGIN:DAYLIGHT
TZOFFSETFROM:+0100
TZOFFSETTO:+0200
TZNAME:CEST
DTSTART:20200329T010000
END:DAYLIGHT
BEGIN:STANDARD
TZOFFSETFROM:+0200
TZOFFSETTO:+0100
TZNAME:CET
DTSTART:20201025T010000
END:STANDARD
END:VTIMEZONE
BEGIN:VEVENT
DTSTART;TZID=Europe/Warsaw:20190330T210000
DTEND;TZID=Europe/Warsaw:20190330T230000
DTSTAMP:20260424T122445
CREATED:20190201T213741Z
LAST-MODIFIED:20190201T213741Z
UID:5981-1553979600-1553986800@koncertywrzeszowie.pl
SUMMARY:Ania Karwan. Wiosenna Trasa Koncertowa
DESCRIPTION:15 lutego 2019 roku ukaże się długo oczekiwana debiutancka płyta Ani Karwan.\nArtystka promować ją będzie podczas wiosennej trasy koncertowej\, w ramach której odwiedzi 6 miast.\nPierwszym singlem zapowiadającym płytę był radiowy hit „Głupcy”\, który w zaledwie 4 miesiące od premiery zyskał ponad 6 milionów odsłon na YouTube. Jednak „Głupcy” to tylko jeden z odcieni nadchodzącej płyty. Jeszcze przed premierą albumu\, poznamy drugi singiel\, ukazujący nieco inną stronę wydawnictwa. \nNa płycie i podczas koncertów fani usłyszą kilkanaście bardzo osobistych i szczerych\, muzycznych opowieści. W trakcie trasy nie zabraknie też utworów\, które na stałe wpisały się w repertuar Ani sprzed debiutu\, m.in. brawurowe „Purple Rain”\, którego wykonaniem wokalistka zasłynęła w VII edycji „The Voice of Poland”. \nAnia Karwan długo czekała na wydanie swojego debiutanckiego albumu\, ale jak twierdzi na dobre rzeczy warto poczekać. Nawiązała współpracę z 2trackrecords – młodą wytwórnią\, założoną przez producenta Bogdana Kondrackiego (członka kultowej formacji Kobong oraz producenta płyt m.in.: Dawida Podsiadło\, Ani Dąbrowskiej i Brodki) oraz Sławka Mroczka – właściciela Custom34 Studio. \n„Moje spotkanie z Bogdanem Kondrackim jest wielką nagrodą za 18 lat szukania siebie. Przed nami koncerty\, na których zaproszę Was do wysłuchania niełatwej\, ale pięknej historii mojego życia. Czekam z niecierpliwością na wyjście z tą płytą na scenę” \nAnia \n\nWedług Bogdana Kondrackiego \n\n„Ania jest prawdziwą divą. Jest nie tylko wrażliwa\, hyper muzykalna i bardzo kreatywna w studiu\, ale jest też artystką świadomą\, która potrafi zbudować piosenkę od początku do końca wywołując ciarki na plecach. Niewiele wokalistek w Polsce (i nie tylko) ma takie możliwości wokalne”. \n\n  \nAnia Karwan – Głupcy
URL:https://koncertywrzeszowie.pl/event/ania-karwan-wiosenna-trasa-koncertowa/
LOCATION:LUKR\, Kopisto 1\, Rzeszów
CATEGORIES:Koncerty,Lukr
ATTACH;FMTTYPE=image/jpeg:https://koncertywrzeszowie.pl/wp-content/uploads/2019/02/AniaKarwan.jpg
END:VEVENT
END:VCALENDAR