BEGIN:VCALENDAR
VERSION:2.0
PRODID:-//Koncert Rzeszów. Zobacz kto zagra w Rzeszowie! - ECPv6.15.20//NONSGML v1.0//EN
CALSCALE:GREGORIAN
METHOD:PUBLISH
X-WR-CALNAME:Koncert Rzeszów. Zobacz kto zagra w Rzeszowie!
X-ORIGINAL-URL:https://koncertywrzeszowie.pl
X-WR-CALDESC:Wydarzenia dla Koncert Rzeszów. Zobacz kto zagra w Rzeszowie!
REFRESH-INTERVAL;VALUE=DURATION:PT1H
X-Robots-Tag:noindex
X-PUBLISHED-TTL:PT1H
BEGIN:VTIMEZONE
TZID:Europe/Warsaw
BEGIN:DAYLIGHT
TZOFFSETFROM:+0100
TZOFFSETTO:+0200
TZNAME:CEST
DTSTART:20170326T010000
END:DAYLIGHT
BEGIN:STANDARD
TZOFFSETFROM:+0200
TZOFFSETTO:+0100
TZNAME:CET
DTSTART:20171029T010000
END:STANDARD
BEGIN:DAYLIGHT
TZOFFSETFROM:+0100
TZOFFSETTO:+0200
TZNAME:CEST
DTSTART:20180325T010000
END:DAYLIGHT
BEGIN:STANDARD
TZOFFSETFROM:+0200
TZOFFSETTO:+0100
TZNAME:CET
DTSTART:20181028T010000
END:STANDARD
BEGIN:DAYLIGHT
TZOFFSETFROM:+0100
TZOFFSETTO:+0200
TZNAME:CEST
DTSTART:20190331T010000
END:DAYLIGHT
BEGIN:STANDARD
TZOFFSETFROM:+0200
TZOFFSETTO:+0100
TZNAME:CET
DTSTART:20191027T010000
END:STANDARD
END:VTIMEZONE
BEGIN:VEVENT
DTSTART;TZID=Europe/Warsaw:20180422T200000
DTEND;TZID=Europe/Warsaw:20180422T220000
DTSTAMP:20260419T190602
CREATED:20180209T204133Z
LAST-MODIFIED:20180209T204133Z
UID:4516-1524427200-1524434400@koncertywrzeszowie.pl
SUMMARY:Ania Dąbrowska The Best Of w Filharmonii Podkarpackiej
DESCRIPTION:Ania Dąbrowska\nGood Taste Production zaprasza na koncerty Ani Dąbrowskiej „The Best Of”\, podczas których zabrzmią największe przeboje artystki! \nKażdy z sześciu dotychczasowych albumów studyjnych Anny Dąbrowskiej pokrył się platyną\, potwierdzając jej niezwykłe wyczucie uniwersalnie przebojowych melodii\, trafiających do serc wymagających słuchaczy\, które w tak niepodrabialny sposób ze szczyptą melancholii śpiewa swoim ciepłym\, pastelowym głosem. \nUznanie dla jej talentu wyraża cała branża muzyczna – Dąbrowska nagrodzona została dziewięcioma Fryderykami\, a melodie i teksty jej autorstwa mają w swoim katalogu m.in. Maryla Rodowicz\, Monika Brodka\, Beata Kozidrak\, Ania Wyszkoni\, Andrzej Piaseczny czy Krzysztof Krawczyk. Nigdy jednak nie goniła na siłę za trendami i przebojami\, konsekwentnie idąc własną drogą. Wiele razy potrafiła wymyślić na nowo swoją muzykę\, podejmując odważne decyzje. \nGdy ostatnio wymieniła współpracowników i dokonała ryzykownej\, stylistycznej wolty\, nikt nie miał wątpliwości\, że jest u steru i wciąż odciska w piosenkach swoje własne emocje oraz rozległe inspiracje. Wydana w ubiegłym roku płyta „Dla naiwnych marzycieli”\, nagrodzona została Fryderykiem za najlepszy album pop\, a pochodzący z niej singiel „W głowie” zdominował radiowe playlisty. Wszystkie rekordy pobiła jednak piosenka nagrana do filmu. „Porady na zdrady (Dreszcze)” to największy przebój w jej karierze (38 milionów odtworzeń na YouTube) od czasu debiutanckiego „Tego chciałam”. \nNowa płyta\n„The Best Of” to kolejne\, wyjątkowe wydawnictwo Ani Dąbrowskiej. Kompilacja największych przebojów zawiera 15 utworów\, pokazujących pełen przekrój i ewolucję muzycznego stylu Artystki. Listę utworów na „The Best Of” otwierają single z jej avant-popowego\, delikatnie elektronicznego debiutu. Znajdziemy na niej także wszystkie przeboje z okresu fascynacji stylem retro – akustyczne\, nawiązujące do polskiej muzyki lat 60. i 70. piosenki z „Kilku historii na ten sam temat”\, nieco bardziej eklektyczne\, zagłębiające się raz w estetykę lat 50. („Nigdy więcej nie tańcz ze mną”)\, raz w epokę disco („W spodniach czy w sukience”) utwory z jej trzeciego albumu\, a także „Bang Bang” z albumu „Ania Movie” z filmowymi piosenkami. \nNie zabrakło także utworów z dwóch płyt\, na których Ania zwróciła się w kierunku współczesnego popu – bardziej alternatywnej\, słodko-gorzkiej „Bawię się świetnie” oraz przebojowej\, podwójnie platynowej „Dla naiwnych marzycieli”. Na płytę trafiły również dwa ostatnie radiowe hity\, czyli filmowy „Porady na zdrady (Dreszcze)” oraz „Nieprawda” w remixie Gromieego! \nAnia Dąbrowska – „W głowie”\n \n  \n 
URL:https://koncertywrzeszowie.pl/event/ania-dabrowska-the-best-of-w-filharmonii-podkarpackiej/
CATEGORIES:Filharmonia Podkarpacka,Koncerty
ATTACH;FMTTYPE=image/jpeg:https://koncertywrzeszowie.pl/wp-content/uploads/2018/02/anna_dabrowska_22kwietnia2018.jpg
END:VEVENT
END:VCALENDAR