BEGIN:VCALENDAR
VERSION:2.0
PRODID:-//Koncert Rzeszów. Zobacz kto zagra w Rzeszowie! - ECPv6.15.20//NONSGML v1.0//EN
CALSCALE:GREGORIAN
METHOD:PUBLISH
X-WR-CALNAME:Koncert Rzeszów. Zobacz kto zagra w Rzeszowie!
X-ORIGINAL-URL:https://koncertywrzeszowie.pl
X-WR-CALDESC:Wydarzenia dla Koncert Rzeszów. Zobacz kto zagra w Rzeszowie!
REFRESH-INTERVAL;VALUE=DURATION:PT1H
X-Robots-Tag:noindex
X-PUBLISHED-TTL:PT1H
BEGIN:VTIMEZONE
TZID:Europe/Warsaw
BEGIN:DAYLIGHT
TZOFFSETFROM:+0100
TZOFFSETTO:+0200
TZNAME:CEST
DTSTART:20210328T010000
END:DAYLIGHT
BEGIN:STANDARD
TZOFFSETFROM:+0200
TZOFFSETTO:+0100
TZNAME:CET
DTSTART:20211031T010000
END:STANDARD
BEGIN:DAYLIGHT
TZOFFSETFROM:+0100
TZOFFSETTO:+0200
TZNAME:CEST
DTSTART:20220327T010000
END:DAYLIGHT
BEGIN:STANDARD
TZOFFSETFROM:+0200
TZOFFSETTO:+0100
TZNAME:CET
DTSTART:20221030T010000
END:STANDARD
BEGIN:DAYLIGHT
TZOFFSETFROM:+0100
TZOFFSETTO:+0200
TZNAME:CEST
DTSTART:20230326T010000
END:DAYLIGHT
BEGIN:STANDARD
TZOFFSETFROM:+0200
TZOFFSETTO:+0100
TZNAME:CET
DTSTART:20231029T010000
END:STANDARD
END:VTIMEZONE
BEGIN:VEVENT
DTSTART;TZID=Europe/Warsaw:20221126T180000
DTEND;TZID=Europe/Warsaw:20221126T210000
DTSTAMP:20260424T234148
CREATED:20221122T140159Z
LAST-MODIFIED:20221122T143205Z
UID:9054-1669485600-1669496400@koncertywrzeszowie.pl
SUMMARY:Aleksandra Radomska i Paulina Potocka w Rzeszowie | BWA
DESCRIPTION:Aleksandra Radomska\nOd lat podbija serca swoich obserwatorek w Internecie\, od 2021 roku – na scenie. Debiutancka trasa standupowa okularnicy\, która dzięki swojemu ADHD robi masę rzeczy na raz i porywa ludzi na scenie\, okazała się spektakularnym sukcesem. Po wakacyjnej przerwie powraca – z nowym\, jeszcze lepszym programem i gwarantuje jeszcze więcej śmiechu i refleksji\, które zostaną z Tobą na dłużej Program \n  \n„ZROZUMIESZ JAK DOROŚNIESZ“ \nW sumie 8 tematycznych setów opowiadających o wyzwaniach i rozterkach współczesnej baby\, która jest rozdarta pomiędzy konwenansami\, oczekiwaniami wobec siebie\, a realny życiem\, które doskonale potrafi… zaorać nawet najbardziej szlachetne założenie. Relacje w związku\, misterne próby tak modnego teraz selfcare\, rodzicielstwo oraz cała masa trafnych spostrzeżeń na temat naszej rzeczywistości nasączonych w absurdalnym i sakrkastycznym poczuciu humoru Oli. Masz dość prymitywnych żartów o kutasach i seksie? Chcesz usłyszeć coś\, co będzie też o Tobie\, co nie tylko rozbawi\, ale i utuli? Wbijaj! Program tworzony z myślą o babach\, które potrafią się z siebie śmiać\, zatem… I Panowie będą ukontentowani i zrozumieją\, że nie jesteśmy wariatkami. A nawet jeśli\, to normalnej i tak nie znajdą. Jedyny taki stand up z przekazem – musisz to zobaczyć! \n  \nPaulina Potocka\nOd kilku lat z powodzeniem prezentuje swoje poczucie humoru na scenach w całym kraju. Została wielokrotnie wyróżniona na licznych festiwalach komediowych. Słynie z wyrafinowanych żartów i nieszablonowego podejścia do stand-upu. Prezentuje styl pełen absurdów i abstrakcji\, bez pośpiechu. Występowała w takich telewizjach jak Polsat\, TVP Rozrywka oraz Comedy Central Polska. Jej ulubiona piosenka to „Nie poganiaj mnie\, bo tracę oddech”. Przestała mówić\, że coś jest niemożliwe odkąd zobaczyła\, że ludzie biją się o świeżaki w Biedronce. \nPaulina Potocka – „Po prostu petarda“\n \n 
URL:https://koncertywrzeszowie.pl/event/aleksandra-radomska-i-paulina-potocka-w-rzeszowie-bwa/
LOCATION:Biuro Wystaw Artystycznych\, Jana III Sobieskiego 18\, Rzeszów\, podkarpackie\, Poland
CATEGORIES:BWA,Stand-up
ATTACH;FMTTYPE=image/jpeg:https://koncertywrzeszowie.pl/wp-content/uploads/2022/11/radomska-potocka-standup.jpg
END:VEVENT
END:VCALENDAR